BEGIN:VCALENDAR
VERSION:2.0
PRODID:-//Lone Star Combat Academy - ECPv6.15.17.1//NONSGML v1.0//EN
CALSCALE:GREGORIAN
METHOD:PUBLISH
X-WR-CALNAME:Lone Star Combat Academy
X-ORIGINAL-URL:https://lonestarcombatacademy.com
X-WR-CALDESC:Events for Lone Star Combat Academy
REFRESH-INTERVAL;VALUE=DURATION:PT1H
X-Robots-Tag:noindex
X-PUBLISHED-TTL:PT1H
BEGIN:VTIMEZONE
TZID:America/Chicago
BEGIN:DAYLIGHT
TZOFFSETFROM:-0600
TZOFFSETTO:-0500
TZNAME:CDT
DTSTART:20250309T080000
END:DAYLIGHT
BEGIN:STANDARD
TZOFFSETFROM:-0500
TZOFFSETTO:-0600
TZNAME:CST
DTSTART:20251102T070000
END:STANDARD
BEGIN:DAYLIGHT
TZOFFSETFROM:-0600
TZOFFSETTO:-0500
TZNAME:CDT
DTSTART:20260308T080000
END:DAYLIGHT
BEGIN:STANDARD
TZOFFSETFROM:-0500
TZOFFSETTO:-0600
TZNAME:CST
DTSTART:20261101T070000
END:STANDARD
BEGIN:DAYLIGHT
TZOFFSETFROM:-0600
TZOFFSETTO:-0500
TZNAME:CDT
DTSTART:20270314T080000
END:DAYLIGHT
BEGIN:STANDARD
TZOFFSETFROM:-0500
TZOFFSETTO:-0600
TZNAME:CST
DTSTART:20271107T070000
END:STANDARD
END:VTIMEZONE
BEGIN:VEVENT
DTSTART;TZID=America/Chicago:20260830T160000
DTEND;TZID=America/Chicago:20260830T180000
DTSTAMP:20260422T141019
CREATED:20260108T034347Z
LAST-MODIFIED:20260108T034641Z
UID:10004387-1788105600-1788112800@lonestarcombatacademy.com
SUMMARY:Open Mat
DESCRIPTION:
URL:https://lonestarcombatacademy.com/schedule/open-mat-2/2026-08-30/
LOCATION:LSCA – Lyste\, 940 N. Belt Line RD\, Irving\, TX\, 75061\, United States
CATEGORIES:Open Mat Time
END:VEVENT
BEGIN:VEVENT
DTSTART;TZID=America/Chicago:20260831T173000
DTEND;TZID=America/Chicago:20260831T190000
DTSTAMP:20260422T141019
CREATED:20260108T034118Z
LAST-MODIFIED:20260108T034738Z
UID:10001788-1788197400-1788202800@lonestarcombatacademy.com
SUMMARY:Open Mat
DESCRIPTION:
URL:https://lonestarcombatacademy.com/schedule/open-mat/2026-08-31/
LOCATION:LSCA – Lyste\, 940 N. Belt Line RD\, Irving\, TX\, 75061\, United States
CATEGORIES:Open Mat Time
END:VEVENT
BEGIN:VEVENT
DTSTART;TZID=America/Chicago:20260901T160000
DTEND;TZID=America/Chicago:20260901T180000
DTSTAMP:20260422T141019
CREATED:20260108T034347Z
LAST-MODIFIED:20260108T034641Z
UID:10004388-1788278400-1788285600@lonestarcombatacademy.com
SUMMARY:Open Mat
DESCRIPTION:
URL:https://lonestarcombatacademy.com/schedule/open-mat-2/2026-09-01/
LOCATION:LSCA – Lyste\, 940 N. Belt Line RD\, Irving\, TX\, 75061\, United States
CATEGORIES:Open Mat Time
END:VEVENT
BEGIN:VEVENT
DTSTART;TZID=America/Chicago:20260901T173000
DTEND;TZID=America/Chicago:20260901T190000
DTSTAMP:20260422T141019
CREATED:20260108T034118Z
LAST-MODIFIED:20260108T034738Z
UID:10001789-1788283800-1788289200@lonestarcombatacademy.com
SUMMARY:Open Mat
DESCRIPTION:
URL:https://lonestarcombatacademy.com/schedule/open-mat/2026-09-01/
LOCATION:LSCA – Lyste\, 940 N. Belt Line RD\, Irving\, TX\, 75061\, United States
CATEGORIES:Open Mat Time
END:VEVENT
BEGIN:VEVENT
DTSTART;TZID=America/Chicago:20260902T160000
DTEND;TZID=America/Chicago:20260902T180000
DTSTAMP:20260422T141019
CREATED:20260108T034347Z
LAST-MODIFIED:20260108T034641Z
UID:10004389-1788364800-1788372000@lonestarcombatacademy.com
SUMMARY:Open Mat
DESCRIPTION:
URL:https://lonestarcombatacademy.com/schedule/open-mat-2/2026-09-02/
LOCATION:LSCA – Lyste\, 940 N. Belt Line RD\, Irving\, TX\, 75061\, United States
CATEGORIES:Open Mat Time
END:VEVENT
BEGIN:VEVENT
DTSTART;TZID=America/Chicago:20260902T173000
DTEND;TZID=America/Chicago:20260902T190000
DTSTAMP:20260422T141019
CREATED:20260108T034118Z
LAST-MODIFIED:20260108T034738Z
UID:10001790-1788370200-1788375600@lonestarcombatacademy.com
SUMMARY:Open Mat
DESCRIPTION:
URL:https://lonestarcombatacademy.com/schedule/open-mat/2026-09-02/
LOCATION:LSCA – Lyste\, 940 N. Belt Line RD\, Irving\, TX\, 75061\, United States
CATEGORIES:Open Mat Time
END:VEVENT
BEGIN:VEVENT
DTSTART;TZID=America/Chicago:20260903T160000
DTEND;TZID=America/Chicago:20260903T180000
DTSTAMP:20260422T141019
CREATED:20260108T034347Z
LAST-MODIFIED:20260108T034641Z
UID:10004390-1788451200-1788458400@lonestarcombatacademy.com
SUMMARY:Open Mat
DESCRIPTION:
URL:https://lonestarcombatacademy.com/schedule/open-mat-2/2026-09-03/
LOCATION:LSCA – Lyste\, 940 N. Belt Line RD\, Irving\, TX\, 75061\, United States
CATEGORIES:Open Mat Time
END:VEVENT
BEGIN:VEVENT
DTSTART;TZID=America/Chicago:20260903T173000
DTEND;TZID=America/Chicago:20260903T190000
DTSTAMP:20260422T141019
CREATED:20260108T034118Z
LAST-MODIFIED:20260108T034738Z
UID:10001791-1788456600-1788462000@lonestarcombatacademy.com
SUMMARY:Open Mat
DESCRIPTION:
URL:https://lonestarcombatacademy.com/schedule/open-mat/2026-09-03/
LOCATION:LSCA – Lyste\, 940 N. Belt Line RD\, Irving\, TX\, 75061\, United States
CATEGORIES:Open Mat Time
END:VEVENT
BEGIN:VEVENT
DTSTART;TZID=America/Chicago:20260904T160000
DTEND;TZID=America/Chicago:20260904T180000
DTSTAMP:20260422T141019
CREATED:20260108T034347Z
LAST-MODIFIED:20260108T034641Z
UID:10004391-1788537600-1788544800@lonestarcombatacademy.com
SUMMARY:Open Mat
DESCRIPTION:
URL:https://lonestarcombatacademy.com/schedule/open-mat-2/2026-09-04/
LOCATION:LSCA – Lyste\, 940 N. Belt Line RD\, Irving\, TX\, 75061\, United States
CATEGORIES:Open Mat Time
END:VEVENT
BEGIN:VEVENT
DTSTART;TZID=America/Chicago:20260904T173000
DTEND;TZID=America/Chicago:20260904T190000
DTSTAMP:20260422T141019
CREATED:20260108T034118Z
LAST-MODIFIED:20260108T034738Z
UID:10001792-1788543000-1788548400@lonestarcombatacademy.com
SUMMARY:Open Mat
DESCRIPTION:
URL:https://lonestarcombatacademy.com/schedule/open-mat/2026-09-04/
LOCATION:LSCA – Lyste\, 940 N. Belt Line RD\, Irving\, TX\, 75061\, United States
CATEGORIES:Open Mat Time
END:VEVENT
BEGIN:VEVENT
DTSTART;TZID=America/Chicago:20260906T160000
DTEND;TZID=America/Chicago:20260906T180000
DTSTAMP:20260422T141019
CREATED:20260108T034347Z
LAST-MODIFIED:20260108T034641Z
UID:10004392-1788710400-1788717600@lonestarcombatacademy.com
SUMMARY:Open Mat
DESCRIPTION:
URL:https://lonestarcombatacademy.com/schedule/open-mat-2/2026-09-06/
LOCATION:LSCA – Lyste\, 940 N. Belt Line RD\, Irving\, TX\, 75061\, United States
CATEGORIES:Open Mat Time
END:VEVENT
BEGIN:VEVENT
DTSTART;TZID=America/Chicago:20260907T173000
DTEND;TZID=America/Chicago:20260907T190000
DTSTAMP:20260422T141019
CREATED:20260108T034118Z
LAST-MODIFIED:20260108T034738Z
UID:10001793-1788802200-1788807600@lonestarcombatacademy.com
SUMMARY:Open Mat
DESCRIPTION:
URL:https://lonestarcombatacademy.com/schedule/open-mat/2026-09-07/
LOCATION:LSCA – Lyste\, 940 N. Belt Line RD\, Irving\, TX\, 75061\, United States
CATEGORIES:Open Mat Time
END:VEVENT
BEGIN:VEVENT
DTSTART;TZID=America/Chicago:20260908T160000
DTEND;TZID=America/Chicago:20260908T180000
DTSTAMP:20260422T141019
CREATED:20260108T034347Z
LAST-MODIFIED:20260108T034641Z
UID:10004393-1788883200-1788890400@lonestarcombatacademy.com
SUMMARY:Open Mat
DESCRIPTION:
URL:https://lonestarcombatacademy.com/schedule/open-mat-2/2026-09-08/
LOCATION:LSCA – Lyste\, 940 N. Belt Line RD\, Irving\, TX\, 75061\, United States
CATEGORIES:Open Mat Time
END:VEVENT
BEGIN:VEVENT
DTSTART;TZID=America/Chicago:20260908T173000
DTEND;TZID=America/Chicago:20260908T190000
DTSTAMP:20260422T141019
CREATED:20260108T034118Z
LAST-MODIFIED:20260108T034738Z
UID:10001794-1788888600-1788894000@lonestarcombatacademy.com
SUMMARY:Open Mat
DESCRIPTION:
URL:https://lonestarcombatacademy.com/schedule/open-mat/2026-09-08/
LOCATION:LSCA – Lyste\, 940 N. Belt Line RD\, Irving\, TX\, 75061\, United States
CATEGORIES:Open Mat Time
END:VEVENT
BEGIN:VEVENT
DTSTART;TZID=America/Chicago:20260909T160000
DTEND;TZID=America/Chicago:20260909T180000
DTSTAMP:20260422T141019
CREATED:20260108T034347Z
LAST-MODIFIED:20260108T034641Z
UID:10004394-1788969600-1788976800@lonestarcombatacademy.com
SUMMARY:Open Mat
DESCRIPTION:
URL:https://lonestarcombatacademy.com/schedule/open-mat-2/2026-09-09/
LOCATION:LSCA – Lyste\, 940 N. Belt Line RD\, Irving\, TX\, 75061\, United States
CATEGORIES:Open Mat Time
END:VEVENT
BEGIN:VEVENT
DTSTART;TZID=America/Chicago:20260909T173000
DTEND;TZID=America/Chicago:20260909T190000
DTSTAMP:20260422T141019
CREATED:20260108T034118Z
LAST-MODIFIED:20260108T034738Z
UID:10001795-1788975000-1788980400@lonestarcombatacademy.com
SUMMARY:Open Mat
DESCRIPTION:
URL:https://lonestarcombatacademy.com/schedule/open-mat/2026-09-09/
LOCATION:LSCA – Lyste\, 940 N. Belt Line RD\, Irving\, TX\, 75061\, United States
CATEGORIES:Open Mat Time
END:VEVENT
BEGIN:VEVENT
DTSTART;TZID=America/Chicago:20260910T160000
DTEND;TZID=America/Chicago:20260910T180000
DTSTAMP:20260422T141019
CREATED:20260108T034347Z
LAST-MODIFIED:20260108T034641Z
UID:10004395-1789056000-1789063200@lonestarcombatacademy.com
SUMMARY:Open Mat
DESCRIPTION:
URL:https://lonestarcombatacademy.com/schedule/open-mat-2/2026-09-10/
LOCATION:LSCA – Lyste\, 940 N. Belt Line RD\, Irving\, TX\, 75061\, United States
CATEGORIES:Open Mat Time
END:VEVENT
BEGIN:VEVENT
DTSTART;TZID=America/Chicago:20260910T173000
DTEND;TZID=America/Chicago:20260910T190000
DTSTAMP:20260422T141019
CREATED:20260108T034118Z
LAST-MODIFIED:20260108T034738Z
UID:10001796-1789061400-1789066800@lonestarcombatacademy.com
SUMMARY:Open Mat
DESCRIPTION:
URL:https://lonestarcombatacademy.com/schedule/open-mat/2026-09-10/
LOCATION:LSCA – Lyste\, 940 N. Belt Line RD\, Irving\, TX\, 75061\, United States
CATEGORIES:Open Mat Time
END:VEVENT
BEGIN:VEVENT
DTSTART;TZID=America/Chicago:20260911T160000
DTEND;TZID=America/Chicago:20260911T180000
DTSTAMP:20260422T141019
CREATED:20260108T034347Z
LAST-MODIFIED:20260108T034641Z
UID:10004396-1789142400-1789149600@lonestarcombatacademy.com
SUMMARY:Open Mat
DESCRIPTION:
URL:https://lonestarcombatacademy.com/schedule/open-mat-2/2026-09-11/
LOCATION:LSCA – Lyste\, 940 N. Belt Line RD\, Irving\, TX\, 75061\, United States
CATEGORIES:Open Mat Time
END:VEVENT
BEGIN:VEVENT
DTSTART;TZID=America/Chicago:20260911T173000
DTEND;TZID=America/Chicago:20260911T190000
DTSTAMP:20260422T141019
CREATED:20260108T034118Z
LAST-MODIFIED:20260108T034738Z
UID:10001797-1789147800-1789153200@lonestarcombatacademy.com
SUMMARY:Open Mat
DESCRIPTION:
URL:https://lonestarcombatacademy.com/schedule/open-mat/2026-09-11/
LOCATION:LSCA – Lyste\, 940 N. Belt Line RD\, Irving\, TX\, 75061\, United States
CATEGORIES:Open Mat Time
END:VEVENT
BEGIN:VEVENT
DTSTART;TZID=America/Chicago:20260913T160000
DTEND;TZID=America/Chicago:20260913T180000
DTSTAMP:20260422T141019
CREATED:20260108T034347Z
LAST-MODIFIED:20260108T034641Z
UID:10004397-1789315200-1789322400@lonestarcombatacademy.com
SUMMARY:Open Mat
DESCRIPTION:
URL:https://lonestarcombatacademy.com/schedule/open-mat-2/2026-09-13/
LOCATION:LSCA – Lyste\, 940 N. Belt Line RD\, Irving\, TX\, 75061\, United States
CATEGORIES:Open Mat Time
END:VEVENT
BEGIN:VEVENT
DTSTART;TZID=America/Chicago:20260914T173000
DTEND;TZID=America/Chicago:20260914T190000
DTSTAMP:20260422T141019
CREATED:20260108T034118Z
LAST-MODIFIED:20260108T034738Z
UID:10001798-1789407000-1789412400@lonestarcombatacademy.com
SUMMARY:Open Mat
DESCRIPTION:
URL:https://lonestarcombatacademy.com/schedule/open-mat/2026-09-14/
LOCATION:LSCA – Lyste\, 940 N. Belt Line RD\, Irving\, TX\, 75061\, United States
CATEGORIES:Open Mat Time
END:VEVENT
BEGIN:VEVENT
DTSTART;TZID=America/Chicago:20260915T160000
DTEND;TZID=America/Chicago:20260915T180000
DTSTAMP:20260422T141019
CREATED:20260108T034347Z
LAST-MODIFIED:20260108T034641Z
UID:10004398-1789488000-1789495200@lonestarcombatacademy.com
SUMMARY:Open Mat
DESCRIPTION:
URL:https://lonestarcombatacademy.com/schedule/open-mat-2/2026-09-15/
LOCATION:LSCA – Lyste\, 940 N. Belt Line RD\, Irving\, TX\, 75061\, United States
CATEGORIES:Open Mat Time
END:VEVENT
BEGIN:VEVENT
DTSTART;TZID=America/Chicago:20260915T173000
DTEND;TZID=America/Chicago:20260915T190000
DTSTAMP:20260422T141019
CREATED:20260108T034118Z
LAST-MODIFIED:20260108T034738Z
UID:10001799-1789493400-1789498800@lonestarcombatacademy.com
SUMMARY:Open Mat
DESCRIPTION:
URL:https://lonestarcombatacademy.com/schedule/open-mat/2026-09-15/
LOCATION:LSCA – Lyste\, 940 N. Belt Line RD\, Irving\, TX\, 75061\, United States
CATEGORIES:Open Mat Time
END:VEVENT
BEGIN:VEVENT
DTSTART;TZID=America/Chicago:20260916T160000
DTEND;TZID=America/Chicago:20260916T180000
DTSTAMP:20260422T141019
CREATED:20260108T034347Z
LAST-MODIFIED:20260108T034641Z
UID:10004399-1789574400-1789581600@lonestarcombatacademy.com
SUMMARY:Open Mat
DESCRIPTION:
URL:https://lonestarcombatacademy.com/schedule/open-mat-2/2026-09-16/
LOCATION:LSCA – Lyste\, 940 N. Belt Line RD\, Irving\, TX\, 75061\, United States
CATEGORIES:Open Mat Time
END:VEVENT
BEGIN:VEVENT
DTSTART;TZID=America/Chicago:20260916T173000
DTEND;TZID=America/Chicago:20260916T190000
DTSTAMP:20260422T141019
CREATED:20260108T034118Z
LAST-MODIFIED:20260108T034738Z
UID:10001800-1789579800-1789585200@lonestarcombatacademy.com
SUMMARY:Open Mat
DESCRIPTION:
URL:https://lonestarcombatacademy.com/schedule/open-mat/2026-09-16/
LOCATION:LSCA – Lyste\, 940 N. Belt Line RD\, Irving\, TX\, 75061\, United States
CATEGORIES:Open Mat Time
END:VEVENT
BEGIN:VEVENT
DTSTART;TZID=America/Chicago:20260917T160000
DTEND;TZID=America/Chicago:20260917T180000
DTSTAMP:20260422T141019
CREATED:20260108T034347Z
LAST-MODIFIED:20260108T034641Z
UID:10004400-1789660800-1789668000@lonestarcombatacademy.com
SUMMARY:Open Mat
DESCRIPTION:
URL:https://lonestarcombatacademy.com/schedule/open-mat-2/2026-09-17/
LOCATION:LSCA – Lyste\, 940 N. Belt Line RD\, Irving\, TX\, 75061\, United States
CATEGORIES:Open Mat Time
END:VEVENT
BEGIN:VEVENT
DTSTART;TZID=America/Chicago:20260917T173000
DTEND;TZID=America/Chicago:20260917T190000
DTSTAMP:20260422T141019
CREATED:20260108T034118Z
LAST-MODIFIED:20260108T034738Z
UID:10001801-1789666200-1789671600@lonestarcombatacademy.com
SUMMARY:Open Mat
DESCRIPTION:
URL:https://lonestarcombatacademy.com/schedule/open-mat/2026-09-17/
LOCATION:LSCA – Lyste\, 940 N. Belt Line RD\, Irving\, TX\, 75061\, United States
CATEGORIES:Open Mat Time
END:VEVENT
BEGIN:VEVENT
DTSTART;TZID=America/Chicago:20260918T160000
DTEND;TZID=America/Chicago:20260918T180000
DTSTAMP:20260422T141019
CREATED:20260108T034347Z
LAST-MODIFIED:20260108T034641Z
UID:10004401-1789747200-1789754400@lonestarcombatacademy.com
SUMMARY:Open Mat
DESCRIPTION:
URL:https://lonestarcombatacademy.com/schedule/open-mat-2/2026-09-18/
LOCATION:LSCA – Lyste\, 940 N. Belt Line RD\, Irving\, TX\, 75061\, United States
CATEGORIES:Open Mat Time
END:VEVENT
BEGIN:VEVENT
DTSTART;TZID=America/Chicago:20260918T173000
DTEND;TZID=America/Chicago:20260918T190000
DTSTAMP:20260422T141019
CREATED:20260108T034118Z
LAST-MODIFIED:20260108T034738Z
UID:10001802-1789752600-1789758000@lonestarcombatacademy.com
SUMMARY:Open Mat
DESCRIPTION:
URL:https://lonestarcombatacademy.com/schedule/open-mat/2026-09-18/
LOCATION:LSCA – Lyste\, 940 N. Belt Line RD\, Irving\, TX\, 75061\, United States
CATEGORIES:Open Mat Time
END:VEVENT
END:VCALENDAR