BEGIN:VCALENDAR
VERSION:2.0
PRODID:-//Lone Star Combat Academy - ECPv6.15.17.1//NONSGML v1.0//EN
CALSCALE:GREGORIAN
METHOD:PUBLISH
X-WR-CALNAME:Lone Star Combat Academy
X-ORIGINAL-URL:https://lonestarcombatacademy.com
X-WR-CALDESC:Events for Lone Star Combat Academy
REFRESH-INTERVAL;VALUE=DURATION:PT1H
X-Robots-Tag:noindex
X-PUBLISHED-TTL:PT1H
BEGIN:VTIMEZONE
TZID:America/Chicago
BEGIN:DAYLIGHT
TZOFFSETFROM:-0600
TZOFFSETTO:-0500
TZNAME:CDT
DTSTART:20250309T080000
END:DAYLIGHT
BEGIN:STANDARD
TZOFFSETFROM:-0500
TZOFFSETTO:-0600
TZNAME:CST
DTSTART:20251102T070000
END:STANDARD
BEGIN:DAYLIGHT
TZOFFSETFROM:-0600
TZOFFSETTO:-0500
TZNAME:CDT
DTSTART:20260308T080000
END:DAYLIGHT
BEGIN:STANDARD
TZOFFSETFROM:-0500
TZOFFSETTO:-0600
TZNAME:CST
DTSTART:20261101T070000
END:STANDARD
BEGIN:DAYLIGHT
TZOFFSETFROM:-0600
TZOFFSETTO:-0500
TZNAME:CDT
DTSTART:20270314T080000
END:DAYLIGHT
BEGIN:STANDARD
TZOFFSETFROM:-0500
TZOFFSETTO:-0600
TZNAME:CST
DTSTART:20271107T070000
END:STANDARD
END:VTIMEZONE
BEGIN:VEVENT
DTSTART;TZID=America/Chicago:20260610T160000
DTEND;TZID=America/Chicago:20260610T180000
DTSTAMP:20260422T154033
CREATED:20260108T034347Z
LAST-MODIFIED:20260108T034641Z
UID:10004329-1781107200-1781114400@lonestarcombatacademy.com
SUMMARY:Open Mat
DESCRIPTION:
URL:https://lonestarcombatacademy.com/schedule/open-mat-2/2026-06-10/
LOCATION:LSCA – Lyste\, 940 N. Belt Line RD\, Irving\, TX\, 75061\, United States
CATEGORIES:Open Mat Time
END:VEVENT
BEGIN:VEVENT
DTSTART;TZID=America/Chicago:20260610T173000
DTEND;TZID=America/Chicago:20260610T190000
DTSTAMP:20260422T154033
CREATED:20260108T034118Z
LAST-MODIFIED:20260108T034738Z
UID:10001730-1781112600-1781118000@lonestarcombatacademy.com
SUMMARY:Open Mat
DESCRIPTION:
URL:https://lonestarcombatacademy.com/schedule/open-mat/2026-06-10/
LOCATION:LSCA – Lyste\, 940 N. Belt Line RD\, Irving\, TX\, 75061\, United States
CATEGORIES:Open Mat Time
END:VEVENT
BEGIN:VEVENT
DTSTART;TZID=America/Chicago:20260611T160000
DTEND;TZID=America/Chicago:20260611T180000
DTSTAMP:20260422T154033
CREATED:20260108T034347Z
LAST-MODIFIED:20260108T034641Z
UID:10004330-1781193600-1781200800@lonestarcombatacademy.com
SUMMARY:Open Mat
DESCRIPTION:
URL:https://lonestarcombatacademy.com/schedule/open-mat-2/2026-06-11/
LOCATION:LSCA – Lyste\, 940 N. Belt Line RD\, Irving\, TX\, 75061\, United States
CATEGORIES:Open Mat Time
END:VEVENT
BEGIN:VEVENT
DTSTART;TZID=America/Chicago:20260611T173000
DTEND;TZID=America/Chicago:20260611T190000
DTSTAMP:20260422T154033
CREATED:20260108T034118Z
LAST-MODIFIED:20260108T034738Z
UID:10001731-1781199000-1781204400@lonestarcombatacademy.com
SUMMARY:Open Mat
DESCRIPTION:
URL:https://lonestarcombatacademy.com/schedule/open-mat/2026-06-11/
LOCATION:LSCA – Lyste\, 940 N. Belt Line RD\, Irving\, TX\, 75061\, United States
CATEGORIES:Open Mat Time
END:VEVENT
BEGIN:VEVENT
DTSTART;TZID=America/Chicago:20260612T160000
DTEND;TZID=America/Chicago:20260612T180000
DTSTAMP:20260422T154033
CREATED:20260108T034347Z
LAST-MODIFIED:20260108T034641Z
UID:10004331-1781280000-1781287200@lonestarcombatacademy.com
SUMMARY:Open Mat
DESCRIPTION:
URL:https://lonestarcombatacademy.com/schedule/open-mat-2/2026-06-12/
LOCATION:LSCA – Lyste\, 940 N. Belt Line RD\, Irving\, TX\, 75061\, United States
CATEGORIES:Open Mat Time
END:VEVENT
BEGIN:VEVENT
DTSTART;TZID=America/Chicago:20260612T173000
DTEND;TZID=America/Chicago:20260612T190000
DTSTAMP:20260422T154033
CREATED:20260108T034118Z
LAST-MODIFIED:20260108T034738Z
UID:10001732-1781285400-1781290800@lonestarcombatacademy.com
SUMMARY:Open Mat
DESCRIPTION:
URL:https://lonestarcombatacademy.com/schedule/open-mat/2026-06-12/
LOCATION:LSCA – Lyste\, 940 N. Belt Line RD\, Irving\, TX\, 75061\, United States
CATEGORIES:Open Mat Time
END:VEVENT
BEGIN:VEVENT
DTSTART;TZID=America/Chicago:20260614T160000
DTEND;TZID=America/Chicago:20260614T180000
DTSTAMP:20260422T154033
CREATED:20260108T034347Z
LAST-MODIFIED:20260108T034641Z
UID:10004332-1781452800-1781460000@lonestarcombatacademy.com
SUMMARY:Open Mat
DESCRIPTION:
URL:https://lonestarcombatacademy.com/schedule/open-mat-2/2026-06-14/
LOCATION:LSCA – Lyste\, 940 N. Belt Line RD\, Irving\, TX\, 75061\, United States
CATEGORIES:Open Mat Time
END:VEVENT
BEGIN:VEVENT
DTSTART;TZID=America/Chicago:20260615T173000
DTEND;TZID=America/Chicago:20260615T190000
DTSTAMP:20260422T154033
CREATED:20260108T034118Z
LAST-MODIFIED:20260108T034738Z
UID:10001733-1781544600-1781550000@lonestarcombatacademy.com
SUMMARY:Open Mat
DESCRIPTION:
URL:https://lonestarcombatacademy.com/schedule/open-mat/2026-06-15/
LOCATION:LSCA – Lyste\, 940 N. Belt Line RD\, Irving\, TX\, 75061\, United States
CATEGORIES:Open Mat Time
END:VEVENT
BEGIN:VEVENT
DTSTART;TZID=America/Chicago:20260616T160000
DTEND;TZID=America/Chicago:20260616T180000
DTSTAMP:20260422T154033
CREATED:20260108T034347Z
LAST-MODIFIED:20260108T034641Z
UID:10004333-1781625600-1781632800@lonestarcombatacademy.com
SUMMARY:Open Mat
DESCRIPTION:
URL:https://lonestarcombatacademy.com/schedule/open-mat-2/2026-06-16/
LOCATION:LSCA – Lyste\, 940 N. Belt Line RD\, Irving\, TX\, 75061\, United States
CATEGORIES:Open Mat Time
END:VEVENT
BEGIN:VEVENT
DTSTART;TZID=America/Chicago:20260616T173000
DTEND;TZID=America/Chicago:20260616T190000
DTSTAMP:20260422T154033
CREATED:20260108T034118Z
LAST-MODIFIED:20260108T034738Z
UID:10001734-1781631000-1781636400@lonestarcombatacademy.com
SUMMARY:Open Mat
DESCRIPTION:
URL:https://lonestarcombatacademy.com/schedule/open-mat/2026-06-16/
LOCATION:LSCA – Lyste\, 940 N. Belt Line RD\, Irving\, TX\, 75061\, United States
CATEGORIES:Open Mat Time
END:VEVENT
BEGIN:VEVENT
DTSTART;TZID=America/Chicago:20260617T160000
DTEND;TZID=America/Chicago:20260617T180000
DTSTAMP:20260422T154033
CREATED:20260108T034347Z
LAST-MODIFIED:20260108T034641Z
UID:10004334-1781712000-1781719200@lonestarcombatacademy.com
SUMMARY:Open Mat
DESCRIPTION:
URL:https://lonestarcombatacademy.com/schedule/open-mat-2/2026-06-17/
LOCATION:LSCA – Lyste\, 940 N. Belt Line RD\, Irving\, TX\, 75061\, United States
CATEGORIES:Open Mat Time
END:VEVENT
BEGIN:VEVENT
DTSTART;TZID=America/Chicago:20260617T173000
DTEND;TZID=America/Chicago:20260617T190000
DTSTAMP:20260422T154033
CREATED:20260108T034118Z
LAST-MODIFIED:20260108T034738Z
UID:10001735-1781717400-1781722800@lonestarcombatacademy.com
SUMMARY:Open Mat
DESCRIPTION:
URL:https://lonestarcombatacademy.com/schedule/open-mat/2026-06-17/
LOCATION:LSCA – Lyste\, 940 N. Belt Line RD\, Irving\, TX\, 75061\, United States
CATEGORIES:Open Mat Time
END:VEVENT
BEGIN:VEVENT
DTSTART;TZID=America/Chicago:20260618T160000
DTEND;TZID=America/Chicago:20260618T180000
DTSTAMP:20260422T154033
CREATED:20260108T034347Z
LAST-MODIFIED:20260108T034641Z
UID:10004335-1781798400-1781805600@lonestarcombatacademy.com
SUMMARY:Open Mat
DESCRIPTION:
URL:https://lonestarcombatacademy.com/schedule/open-mat-2/2026-06-18/
LOCATION:LSCA – Lyste\, 940 N. Belt Line RD\, Irving\, TX\, 75061\, United States
CATEGORIES:Open Mat Time
END:VEVENT
BEGIN:VEVENT
DTSTART;TZID=America/Chicago:20260618T173000
DTEND;TZID=America/Chicago:20260618T190000
DTSTAMP:20260422T154033
CREATED:20260108T034118Z
LAST-MODIFIED:20260108T034738Z
UID:10001736-1781803800-1781809200@lonestarcombatacademy.com
SUMMARY:Open Mat
DESCRIPTION:
URL:https://lonestarcombatacademy.com/schedule/open-mat/2026-06-18/
LOCATION:LSCA – Lyste\, 940 N. Belt Line RD\, Irving\, TX\, 75061\, United States
CATEGORIES:Open Mat Time
END:VEVENT
BEGIN:VEVENT
DTSTART;TZID=America/Chicago:20260619T160000
DTEND;TZID=America/Chicago:20260619T180000
DTSTAMP:20260422T154033
CREATED:20260108T034347Z
LAST-MODIFIED:20260108T034641Z
UID:10004336-1781884800-1781892000@lonestarcombatacademy.com
SUMMARY:Open Mat
DESCRIPTION:
URL:https://lonestarcombatacademy.com/schedule/open-mat-2/2026-06-19/
LOCATION:LSCA – Lyste\, 940 N. Belt Line RD\, Irving\, TX\, 75061\, United States
CATEGORIES:Open Mat Time
END:VEVENT
BEGIN:VEVENT
DTSTART;TZID=America/Chicago:20260619T173000
DTEND;TZID=America/Chicago:20260619T190000
DTSTAMP:20260422T154033
CREATED:20260108T034118Z
LAST-MODIFIED:20260108T034738Z
UID:10001737-1781890200-1781895600@lonestarcombatacademy.com
SUMMARY:Open Mat
DESCRIPTION:
URL:https://lonestarcombatacademy.com/schedule/open-mat/2026-06-19/
LOCATION:LSCA – Lyste\, 940 N. Belt Line RD\, Irving\, TX\, 75061\, United States
CATEGORIES:Open Mat Time
END:VEVENT
BEGIN:VEVENT
DTSTART;TZID=America/Chicago:20260621T160000
DTEND;TZID=America/Chicago:20260621T180000
DTSTAMP:20260422T154033
CREATED:20260108T034347Z
LAST-MODIFIED:20260108T034641Z
UID:10004337-1782057600-1782064800@lonestarcombatacademy.com
SUMMARY:Open Mat
DESCRIPTION:
URL:https://lonestarcombatacademy.com/schedule/open-mat-2/2026-06-21/
LOCATION:LSCA – Lyste\, 940 N. Belt Line RD\, Irving\, TX\, 75061\, United States
CATEGORIES:Open Mat Time
END:VEVENT
BEGIN:VEVENT
DTSTART;TZID=America/Chicago:20260622T173000
DTEND;TZID=America/Chicago:20260622T190000
DTSTAMP:20260422T154033
CREATED:20260108T034118Z
LAST-MODIFIED:20260108T034738Z
UID:10001738-1782149400-1782154800@lonestarcombatacademy.com
SUMMARY:Open Mat
DESCRIPTION:
URL:https://lonestarcombatacademy.com/schedule/open-mat/2026-06-22/
LOCATION:LSCA – Lyste\, 940 N. Belt Line RD\, Irving\, TX\, 75061\, United States
CATEGORIES:Open Mat Time
END:VEVENT
BEGIN:VEVENT
DTSTART;TZID=America/Chicago:20260623T160000
DTEND;TZID=America/Chicago:20260623T180000
DTSTAMP:20260422T154033
CREATED:20260108T034347Z
LAST-MODIFIED:20260108T034641Z
UID:10004338-1782230400-1782237600@lonestarcombatacademy.com
SUMMARY:Open Mat
DESCRIPTION:
URL:https://lonestarcombatacademy.com/schedule/open-mat-2/2026-06-23/
LOCATION:LSCA – Lyste\, 940 N. Belt Line RD\, Irving\, TX\, 75061\, United States
CATEGORIES:Open Mat Time
END:VEVENT
BEGIN:VEVENT
DTSTART;TZID=America/Chicago:20260623T173000
DTEND;TZID=America/Chicago:20260623T190000
DTSTAMP:20260422T154033
CREATED:20260108T034118Z
LAST-MODIFIED:20260108T034738Z
UID:10001739-1782235800-1782241200@lonestarcombatacademy.com
SUMMARY:Open Mat
DESCRIPTION:
URL:https://lonestarcombatacademy.com/schedule/open-mat/2026-06-23/
LOCATION:LSCA – Lyste\, 940 N. Belt Line RD\, Irving\, TX\, 75061\, United States
CATEGORIES:Open Mat Time
END:VEVENT
BEGIN:VEVENT
DTSTART;TZID=America/Chicago:20260624T160000
DTEND;TZID=America/Chicago:20260624T180000
DTSTAMP:20260422T154033
CREATED:20260108T034347Z
LAST-MODIFIED:20260108T034641Z
UID:10004339-1782316800-1782324000@lonestarcombatacademy.com
SUMMARY:Open Mat
DESCRIPTION:
URL:https://lonestarcombatacademy.com/schedule/open-mat-2/2026-06-24/
LOCATION:LSCA – Lyste\, 940 N. Belt Line RD\, Irving\, TX\, 75061\, United States
CATEGORIES:Open Mat Time
END:VEVENT
BEGIN:VEVENT
DTSTART;TZID=America/Chicago:20260624T173000
DTEND;TZID=America/Chicago:20260624T190000
DTSTAMP:20260422T154033
CREATED:20260108T034118Z
LAST-MODIFIED:20260108T034738Z
UID:10001740-1782322200-1782327600@lonestarcombatacademy.com
SUMMARY:Open Mat
DESCRIPTION:
URL:https://lonestarcombatacademy.com/schedule/open-mat/2026-06-24/
LOCATION:LSCA – Lyste\, 940 N. Belt Line RD\, Irving\, TX\, 75061\, United States
CATEGORIES:Open Mat Time
END:VEVENT
BEGIN:VEVENT
DTSTART;TZID=America/Chicago:20260625T160000
DTEND;TZID=America/Chicago:20260625T180000
DTSTAMP:20260422T154033
CREATED:20260108T034347Z
LAST-MODIFIED:20260108T034641Z
UID:10004340-1782403200-1782410400@lonestarcombatacademy.com
SUMMARY:Open Mat
DESCRIPTION:
URL:https://lonestarcombatacademy.com/schedule/open-mat-2/2026-06-25/
LOCATION:LSCA – Lyste\, 940 N. Belt Line RD\, Irving\, TX\, 75061\, United States
CATEGORIES:Open Mat Time
END:VEVENT
BEGIN:VEVENT
DTSTART;TZID=America/Chicago:20260625T173000
DTEND;TZID=America/Chicago:20260625T190000
DTSTAMP:20260422T154033
CREATED:20260108T034118Z
LAST-MODIFIED:20260108T034738Z
UID:10001741-1782408600-1782414000@lonestarcombatacademy.com
SUMMARY:Open Mat
DESCRIPTION:
URL:https://lonestarcombatacademy.com/schedule/open-mat/2026-06-25/
LOCATION:LSCA – Lyste\, 940 N. Belt Line RD\, Irving\, TX\, 75061\, United States
CATEGORIES:Open Mat Time
END:VEVENT
BEGIN:VEVENT
DTSTART;TZID=America/Chicago:20260626T160000
DTEND;TZID=America/Chicago:20260626T180000
DTSTAMP:20260422T154033
CREATED:20260108T034347Z
LAST-MODIFIED:20260108T034641Z
UID:10004341-1782489600-1782496800@lonestarcombatacademy.com
SUMMARY:Open Mat
DESCRIPTION:
URL:https://lonestarcombatacademy.com/schedule/open-mat-2/2026-06-26/
LOCATION:LSCA – Lyste\, 940 N. Belt Line RD\, Irving\, TX\, 75061\, United States
CATEGORIES:Open Mat Time
END:VEVENT
BEGIN:VEVENT
DTSTART;TZID=America/Chicago:20260626T173000
DTEND;TZID=America/Chicago:20260626T190000
DTSTAMP:20260422T154033
CREATED:20260108T034118Z
LAST-MODIFIED:20260108T034738Z
UID:10001742-1782495000-1782500400@lonestarcombatacademy.com
SUMMARY:Open Mat
DESCRIPTION:
URL:https://lonestarcombatacademy.com/schedule/open-mat/2026-06-26/
LOCATION:LSCA – Lyste\, 940 N. Belt Line RD\, Irving\, TX\, 75061\, United States
CATEGORIES:Open Mat Time
END:VEVENT
BEGIN:VEVENT
DTSTART;TZID=America/Chicago:20260628T160000
DTEND;TZID=America/Chicago:20260628T180000
DTSTAMP:20260422T154033
CREATED:20260108T034347Z
LAST-MODIFIED:20260108T034641Z
UID:10004342-1782662400-1782669600@lonestarcombatacademy.com
SUMMARY:Open Mat
DESCRIPTION:
URL:https://lonestarcombatacademy.com/schedule/open-mat-2/2026-06-28/
LOCATION:LSCA – Lyste\, 940 N. Belt Line RD\, Irving\, TX\, 75061\, United States
CATEGORIES:Open Mat Time
END:VEVENT
BEGIN:VEVENT
DTSTART;TZID=America/Chicago:20260629T173000
DTEND;TZID=America/Chicago:20260629T190000
DTSTAMP:20260422T154033
CREATED:20260108T034118Z
LAST-MODIFIED:20260108T034738Z
UID:10001743-1782754200-1782759600@lonestarcombatacademy.com
SUMMARY:Open Mat
DESCRIPTION:
URL:https://lonestarcombatacademy.com/schedule/open-mat/2026-06-29/
LOCATION:LSCA – Lyste\, 940 N. Belt Line RD\, Irving\, TX\, 75061\, United States
CATEGORIES:Open Mat Time
END:VEVENT
BEGIN:VEVENT
DTSTART;TZID=America/Chicago:20260630T160000
DTEND;TZID=America/Chicago:20260630T180000
DTSTAMP:20260422T154033
CREATED:20260108T034347Z
LAST-MODIFIED:20260108T034641Z
UID:10004343-1782835200-1782842400@lonestarcombatacademy.com
SUMMARY:Open Mat
DESCRIPTION:
URL:https://lonestarcombatacademy.com/schedule/open-mat-2/2026-06-30/
LOCATION:LSCA – Lyste\, 940 N. Belt Line RD\, Irving\, TX\, 75061\, United States
CATEGORIES:Open Mat Time
END:VEVENT
BEGIN:VEVENT
DTSTART;TZID=America/Chicago:20260630T173000
DTEND;TZID=America/Chicago:20260630T190000
DTSTAMP:20260422T154033
CREATED:20260108T034118Z
LAST-MODIFIED:20260108T034738Z
UID:10001744-1782840600-1782846000@lonestarcombatacademy.com
SUMMARY:Open Mat
DESCRIPTION:
URL:https://lonestarcombatacademy.com/schedule/open-mat/2026-06-30/
LOCATION:LSCA – Lyste\, 940 N. Belt Line RD\, Irving\, TX\, 75061\, United States
CATEGORIES:Open Mat Time
END:VEVENT
END:VCALENDAR