BEGIN:VCALENDAR
VERSION:2.0
PRODID:-//Lone Star Combat Academy - ECPv6.15.17.1//NONSGML v1.0//EN
CALSCALE:GREGORIAN
METHOD:PUBLISH
X-WR-CALNAME:Lone Star Combat Academy
X-ORIGINAL-URL:https://lonestarcombatacademy.com
X-WR-CALDESC:Events for Lone Star Combat Academy
REFRESH-INTERVAL;VALUE=DURATION:PT1H
X-Robots-Tag:noindex
X-PUBLISHED-TTL:PT1H
BEGIN:VTIMEZONE
TZID:America/Chicago
BEGIN:DAYLIGHT
TZOFFSETFROM:-0600
TZOFFSETTO:-0500
TZNAME:CDT
DTSTART:20250309T080000
END:DAYLIGHT
BEGIN:STANDARD
TZOFFSETFROM:-0500
TZOFFSETTO:-0600
TZNAME:CST
DTSTART:20251102T070000
END:STANDARD
BEGIN:DAYLIGHT
TZOFFSETFROM:-0600
TZOFFSETTO:-0500
TZNAME:CDT
DTSTART:20260308T080000
END:DAYLIGHT
BEGIN:STANDARD
TZOFFSETFROM:-0500
TZOFFSETTO:-0600
TZNAME:CST
DTSTART:20261101T070000
END:STANDARD
BEGIN:DAYLIGHT
TZOFFSETFROM:-0600
TZOFFSETTO:-0500
TZNAME:CDT
DTSTART:20270314T080000
END:DAYLIGHT
BEGIN:STANDARD
TZOFFSETFROM:-0500
TZOFFSETTO:-0600
TZNAME:CST
DTSTART:20271107T070000
END:STANDARD
END:VTIMEZONE
BEGIN:VEVENT
DTSTART;TZID=America/Chicago:20260204T160000
DTEND;TZID=America/Chicago:20260204T180000
DTSTAMP:20260425T093559
CREATED:20260108T034347Z
LAST-MODIFIED:20260108T034641Z
UID:10004239-1770220800-1770228000@lonestarcombatacademy.com
SUMMARY:Open Mat
DESCRIPTION:
URL:https://lonestarcombatacademy.com/schedule/open-mat-2/2026-02-04/
LOCATION:LSCA – Lyste\, 940 N. Belt Line RD\, Irving\, TX\, 75061\, United States
CATEGORIES:Open Mat Time
END:VEVENT
BEGIN:VEVENT
DTSTART;TZID=America/Chicago:20260204T173000
DTEND;TZID=America/Chicago:20260204T190000
DTSTAMP:20260425T093559
CREATED:20260108T034118Z
LAST-MODIFIED:20260108T034738Z
UID:10001640-1770226200-1770231600@lonestarcombatacademy.com
SUMMARY:Open Mat
DESCRIPTION:
URL:https://lonestarcombatacademy.com/schedule/open-mat/2026-02-04/
LOCATION:LSCA – Lyste\, 940 N. Belt Line RD\, Irving\, TX\, 75061\, United States
CATEGORIES:Open Mat Time
END:VEVENT
BEGIN:VEVENT
DTSTART;TZID=America/Chicago:20260205T160000
DTEND;TZID=America/Chicago:20260205T180000
DTSTAMP:20260425T093559
CREATED:20260108T034347Z
LAST-MODIFIED:20260108T034641Z
UID:10004240-1770307200-1770314400@lonestarcombatacademy.com
SUMMARY:Open Mat
DESCRIPTION:
URL:https://lonestarcombatacademy.com/schedule/open-mat-2/2026-02-05/
LOCATION:LSCA – Lyste\, 940 N. Belt Line RD\, Irving\, TX\, 75061\, United States
CATEGORIES:Open Mat Time
END:VEVENT
BEGIN:VEVENT
DTSTART;TZID=America/Chicago:20260205T173000
DTEND;TZID=America/Chicago:20260205T190000
DTSTAMP:20260425T093559
CREATED:20260108T034118Z
LAST-MODIFIED:20260108T034738Z
UID:10001641-1770312600-1770318000@lonestarcombatacademy.com
SUMMARY:Open Mat
DESCRIPTION:
URL:https://lonestarcombatacademy.com/schedule/open-mat/2026-02-05/
LOCATION:LSCA – Lyste\, 940 N. Belt Line RD\, Irving\, TX\, 75061\, United States
CATEGORIES:Open Mat Time
END:VEVENT
BEGIN:VEVENT
DTSTART;TZID=America/Chicago:20260206T160000
DTEND;TZID=America/Chicago:20260206T180000
DTSTAMP:20260425T093559
CREATED:20260108T034347Z
LAST-MODIFIED:20260108T034641Z
UID:10004241-1770393600-1770400800@lonestarcombatacademy.com
SUMMARY:Open Mat
DESCRIPTION:
URL:https://lonestarcombatacademy.com/schedule/open-mat-2/2026-02-06/
LOCATION:LSCA – Lyste\, 940 N. Belt Line RD\, Irving\, TX\, 75061\, United States
CATEGORIES:Open Mat Time
END:VEVENT
BEGIN:VEVENT
DTSTART;TZID=America/Chicago:20260206T173000
DTEND;TZID=America/Chicago:20260206T190000
DTSTAMP:20260425T093559
CREATED:20260108T034118Z
LAST-MODIFIED:20260108T034738Z
UID:10001642-1770399000-1770404400@lonestarcombatacademy.com
SUMMARY:Open Mat
DESCRIPTION:
URL:https://lonestarcombatacademy.com/schedule/open-mat/2026-02-06/
LOCATION:LSCA – Lyste\, 940 N. Belt Line RD\, Irving\, TX\, 75061\, United States
CATEGORIES:Open Mat Time
END:VEVENT
BEGIN:VEVENT
DTSTART;TZID=America/Chicago:20260208T160000
DTEND;TZID=America/Chicago:20260208T180000
DTSTAMP:20260425T093559
CREATED:20260108T034347Z
LAST-MODIFIED:20260108T034641Z
UID:10004242-1770566400-1770573600@lonestarcombatacademy.com
SUMMARY:Open Mat
DESCRIPTION:
URL:https://lonestarcombatacademy.com/schedule/open-mat-2/2026-02-08/
LOCATION:LSCA – Lyste\, 940 N. Belt Line RD\, Irving\, TX\, 75061\, United States
CATEGORIES:Open Mat Time
END:VEVENT
BEGIN:VEVENT
DTSTART;TZID=America/Chicago:20260209T173000
DTEND;TZID=America/Chicago:20260209T190000
DTSTAMP:20260425T093559
CREATED:20260108T034118Z
LAST-MODIFIED:20260108T034738Z
UID:10001643-1770658200-1770663600@lonestarcombatacademy.com
SUMMARY:Open Mat
DESCRIPTION:
URL:https://lonestarcombatacademy.com/schedule/open-mat/2026-02-09/
LOCATION:LSCA – Lyste\, 940 N. Belt Line RD\, Irving\, TX\, 75061\, United States
CATEGORIES:Open Mat Time
END:VEVENT
BEGIN:VEVENT
DTSTART;TZID=America/Chicago:20260210T160000
DTEND;TZID=America/Chicago:20260210T180000
DTSTAMP:20260425T093559
CREATED:20260108T034347Z
LAST-MODIFIED:20260108T034641Z
UID:10004243-1770739200-1770746400@lonestarcombatacademy.com
SUMMARY:Open Mat
DESCRIPTION:
URL:https://lonestarcombatacademy.com/schedule/open-mat-2/2026-02-10/
LOCATION:LSCA – Lyste\, 940 N. Belt Line RD\, Irving\, TX\, 75061\, United States
CATEGORIES:Open Mat Time
END:VEVENT
BEGIN:VEVENT
DTSTART;TZID=America/Chicago:20260210T173000
DTEND;TZID=America/Chicago:20260210T190000
DTSTAMP:20260425T093559
CREATED:20260108T034118Z
LAST-MODIFIED:20260108T034738Z
UID:10001644-1770744600-1770750000@lonestarcombatacademy.com
SUMMARY:Open Mat
DESCRIPTION:
URL:https://lonestarcombatacademy.com/schedule/open-mat/2026-02-10/
LOCATION:LSCA – Lyste\, 940 N. Belt Line RD\, Irving\, TX\, 75061\, United States
CATEGORIES:Open Mat Time
END:VEVENT
BEGIN:VEVENT
DTSTART;TZID=America/Chicago:20260211T160000
DTEND;TZID=America/Chicago:20260211T180000
DTSTAMP:20260425T093559
CREATED:20260108T034347Z
LAST-MODIFIED:20260108T034641Z
UID:10004244-1770825600-1770832800@lonestarcombatacademy.com
SUMMARY:Open Mat
DESCRIPTION:
URL:https://lonestarcombatacademy.com/schedule/open-mat-2/2026-02-11/
LOCATION:LSCA – Lyste\, 940 N. Belt Line RD\, Irving\, TX\, 75061\, United States
CATEGORIES:Open Mat Time
END:VEVENT
BEGIN:VEVENT
DTSTART;TZID=America/Chicago:20260211T173000
DTEND;TZID=America/Chicago:20260211T190000
DTSTAMP:20260425T093559
CREATED:20260108T034118Z
LAST-MODIFIED:20260108T034738Z
UID:10001645-1770831000-1770836400@lonestarcombatacademy.com
SUMMARY:Open Mat
DESCRIPTION:
URL:https://lonestarcombatacademy.com/schedule/open-mat/2026-02-11/
LOCATION:LSCA – Lyste\, 940 N. Belt Line RD\, Irving\, TX\, 75061\, United States
CATEGORIES:Open Mat Time
END:VEVENT
BEGIN:VEVENT
DTSTART;TZID=America/Chicago:20260212T160000
DTEND;TZID=America/Chicago:20260212T180000
DTSTAMP:20260425T093559
CREATED:20260108T034347Z
LAST-MODIFIED:20260108T034641Z
UID:10004245-1770912000-1770919200@lonestarcombatacademy.com
SUMMARY:Open Mat
DESCRIPTION:
URL:https://lonestarcombatacademy.com/schedule/open-mat-2/2026-02-12/
LOCATION:LSCA – Lyste\, 940 N. Belt Line RD\, Irving\, TX\, 75061\, United States
CATEGORIES:Open Mat Time
END:VEVENT
BEGIN:VEVENT
DTSTART;TZID=America/Chicago:20260212T173000
DTEND;TZID=America/Chicago:20260212T190000
DTSTAMP:20260425T093559
CREATED:20260108T034118Z
LAST-MODIFIED:20260108T034738Z
UID:10001646-1770917400-1770922800@lonestarcombatacademy.com
SUMMARY:Open Mat
DESCRIPTION:
URL:https://lonestarcombatacademy.com/schedule/open-mat/2026-02-12/
LOCATION:LSCA – Lyste\, 940 N. Belt Line RD\, Irving\, TX\, 75061\, United States
CATEGORIES:Open Mat Time
END:VEVENT
BEGIN:VEVENT
DTSTART;TZID=America/Chicago:20260213T160000
DTEND;TZID=America/Chicago:20260213T180000
DTSTAMP:20260425T093559
CREATED:20260108T034347Z
LAST-MODIFIED:20260108T034641Z
UID:10004246-1770998400-1771005600@lonestarcombatacademy.com
SUMMARY:Open Mat
DESCRIPTION:
URL:https://lonestarcombatacademy.com/schedule/open-mat-2/2026-02-13/
LOCATION:LSCA – Lyste\, 940 N. Belt Line RD\, Irving\, TX\, 75061\, United States
CATEGORIES:Open Mat Time
END:VEVENT
BEGIN:VEVENT
DTSTART;TZID=America/Chicago:20260213T173000
DTEND;TZID=America/Chicago:20260213T190000
DTSTAMP:20260425T093559
CREATED:20260108T034118Z
LAST-MODIFIED:20260108T034738Z
UID:10001647-1771003800-1771009200@lonestarcombatacademy.com
SUMMARY:Open Mat
DESCRIPTION:
URL:https://lonestarcombatacademy.com/schedule/open-mat/2026-02-13/
LOCATION:LSCA – Lyste\, 940 N. Belt Line RD\, Irving\, TX\, 75061\, United States
CATEGORIES:Open Mat Time
END:VEVENT
BEGIN:VEVENT
DTSTART;TZID=America/Chicago:20260215T160000
DTEND;TZID=America/Chicago:20260215T180000
DTSTAMP:20260425T093559
CREATED:20260108T034347Z
LAST-MODIFIED:20260108T034641Z
UID:10004247-1771171200-1771178400@lonestarcombatacademy.com
SUMMARY:Open Mat
DESCRIPTION:
URL:https://lonestarcombatacademy.com/schedule/open-mat-2/2026-02-15/
LOCATION:LSCA – Lyste\, 940 N. Belt Line RD\, Irving\, TX\, 75061\, United States
CATEGORIES:Open Mat Time
END:VEVENT
BEGIN:VEVENT
DTSTART;TZID=America/Chicago:20260216T173000
DTEND;TZID=America/Chicago:20260216T190000
DTSTAMP:20260425T093559
CREATED:20260108T034118Z
LAST-MODIFIED:20260108T034738Z
UID:10001648-1771263000-1771268400@lonestarcombatacademy.com
SUMMARY:Open Mat
DESCRIPTION:
URL:https://lonestarcombatacademy.com/schedule/open-mat/2026-02-16/
LOCATION:LSCA – Lyste\, 940 N. Belt Line RD\, Irving\, TX\, 75061\, United States
CATEGORIES:Open Mat Time
END:VEVENT
BEGIN:VEVENT
DTSTART;TZID=America/Chicago:20260217T160000
DTEND;TZID=America/Chicago:20260217T180000
DTSTAMP:20260425T093559
CREATED:20260108T034347Z
LAST-MODIFIED:20260108T034641Z
UID:10004248-1771344000-1771351200@lonestarcombatacademy.com
SUMMARY:Open Mat
DESCRIPTION:
URL:https://lonestarcombatacademy.com/schedule/open-mat-2/2026-02-17/
LOCATION:LSCA – Lyste\, 940 N. Belt Line RD\, Irving\, TX\, 75061\, United States
CATEGORIES:Open Mat Time
END:VEVENT
BEGIN:VEVENT
DTSTART;TZID=America/Chicago:20260217T173000
DTEND;TZID=America/Chicago:20260217T190000
DTSTAMP:20260425T093559
CREATED:20260108T034118Z
LAST-MODIFIED:20260108T034738Z
UID:10001649-1771349400-1771354800@lonestarcombatacademy.com
SUMMARY:Open Mat
DESCRIPTION:
URL:https://lonestarcombatacademy.com/schedule/open-mat/2026-02-17/
LOCATION:LSCA – Lyste\, 940 N. Belt Line RD\, Irving\, TX\, 75061\, United States
CATEGORIES:Open Mat Time
END:VEVENT
BEGIN:VEVENT
DTSTART;TZID=America/Chicago:20260218T160000
DTEND;TZID=America/Chicago:20260218T180000
DTSTAMP:20260425T093559
CREATED:20260108T034347Z
LAST-MODIFIED:20260108T034641Z
UID:10004249-1771430400-1771437600@lonestarcombatacademy.com
SUMMARY:Open Mat
DESCRIPTION:
URL:https://lonestarcombatacademy.com/schedule/open-mat-2/2026-02-18/
LOCATION:LSCA – Lyste\, 940 N. Belt Line RD\, Irving\, TX\, 75061\, United States
CATEGORIES:Open Mat Time
END:VEVENT
BEGIN:VEVENT
DTSTART;TZID=America/Chicago:20260218T173000
DTEND;TZID=America/Chicago:20260218T190000
DTSTAMP:20260425T093559
CREATED:20260108T034118Z
LAST-MODIFIED:20260108T034738Z
UID:10001650-1771435800-1771441200@lonestarcombatacademy.com
SUMMARY:Open Mat
DESCRIPTION:
URL:https://lonestarcombatacademy.com/schedule/open-mat/2026-02-18/
LOCATION:LSCA – Lyste\, 940 N. Belt Line RD\, Irving\, TX\, 75061\, United States
CATEGORIES:Open Mat Time
END:VEVENT
BEGIN:VEVENT
DTSTART;TZID=America/Chicago:20260219T160000
DTEND;TZID=America/Chicago:20260219T180000
DTSTAMP:20260425T093559
CREATED:20260108T034347Z
LAST-MODIFIED:20260108T034641Z
UID:10004250-1771516800-1771524000@lonestarcombatacademy.com
SUMMARY:Open Mat
DESCRIPTION:
URL:https://lonestarcombatacademy.com/schedule/open-mat-2/2026-02-19/
LOCATION:LSCA – Lyste\, 940 N. Belt Line RD\, Irving\, TX\, 75061\, United States
CATEGORIES:Open Mat Time
END:VEVENT
BEGIN:VEVENT
DTSTART;TZID=America/Chicago:20260219T173000
DTEND;TZID=America/Chicago:20260219T190000
DTSTAMP:20260425T093559
CREATED:20260108T034118Z
LAST-MODIFIED:20260108T034738Z
UID:10001651-1771522200-1771527600@lonestarcombatacademy.com
SUMMARY:Open Mat
DESCRIPTION:
URL:https://lonestarcombatacademy.com/schedule/open-mat/2026-02-19/
LOCATION:LSCA – Lyste\, 940 N. Belt Line RD\, Irving\, TX\, 75061\, United States
CATEGORIES:Open Mat Time
END:VEVENT
BEGIN:VEVENT
DTSTART;TZID=America/Chicago:20260220T160000
DTEND;TZID=America/Chicago:20260220T180000
DTSTAMP:20260425T093559
CREATED:20260108T034347Z
LAST-MODIFIED:20260108T034641Z
UID:10004251-1771603200-1771610400@lonestarcombatacademy.com
SUMMARY:Open Mat
DESCRIPTION:
URL:https://lonestarcombatacademy.com/schedule/open-mat-2/2026-02-20/
LOCATION:LSCA – Lyste\, 940 N. Belt Line RD\, Irving\, TX\, 75061\, United States
CATEGORIES:Open Mat Time
END:VEVENT
BEGIN:VEVENT
DTSTART;TZID=America/Chicago:20260220T173000
DTEND;TZID=America/Chicago:20260220T190000
DTSTAMP:20260425T093559
CREATED:20260108T034118Z
LAST-MODIFIED:20260108T034738Z
UID:10001652-1771608600-1771614000@lonestarcombatacademy.com
SUMMARY:Open Mat
DESCRIPTION:
URL:https://lonestarcombatacademy.com/schedule/open-mat/2026-02-20/
LOCATION:LSCA – Lyste\, 940 N. Belt Line RD\, Irving\, TX\, 75061\, United States
CATEGORIES:Open Mat Time
END:VEVENT
BEGIN:VEVENT
DTSTART;TZID=America/Chicago:20260222T160000
DTEND;TZID=America/Chicago:20260222T180000
DTSTAMP:20260425T093559
CREATED:20260108T034347Z
LAST-MODIFIED:20260108T034641Z
UID:10004252-1771776000-1771783200@lonestarcombatacademy.com
SUMMARY:Open Mat
DESCRIPTION:
URL:https://lonestarcombatacademy.com/schedule/open-mat-2/2026-02-22/
LOCATION:LSCA – Lyste\, 940 N. Belt Line RD\, Irving\, TX\, 75061\, United States
CATEGORIES:Open Mat Time
END:VEVENT
BEGIN:VEVENT
DTSTART;TZID=America/Chicago:20260223T173000
DTEND;TZID=America/Chicago:20260223T190000
DTSTAMP:20260425T093559
CREATED:20260108T034118Z
LAST-MODIFIED:20260108T034738Z
UID:10001653-1771867800-1771873200@lonestarcombatacademy.com
SUMMARY:Open Mat
DESCRIPTION:
URL:https://lonestarcombatacademy.com/schedule/open-mat/2026-02-23/
LOCATION:LSCA – Lyste\, 940 N. Belt Line RD\, Irving\, TX\, 75061\, United States
CATEGORIES:Open Mat Time
END:VEVENT
BEGIN:VEVENT
DTSTART;TZID=America/Chicago:20260224T160000
DTEND;TZID=America/Chicago:20260224T180000
DTSTAMP:20260425T093559
CREATED:20260108T034347Z
LAST-MODIFIED:20260108T034641Z
UID:10004253-1771948800-1771956000@lonestarcombatacademy.com
SUMMARY:Open Mat
DESCRIPTION:
URL:https://lonestarcombatacademy.com/schedule/open-mat-2/2026-02-24/
LOCATION:LSCA – Lyste\, 940 N. Belt Line RD\, Irving\, TX\, 75061\, United States
CATEGORIES:Open Mat Time
END:VEVENT
BEGIN:VEVENT
DTSTART;TZID=America/Chicago:20260224T173000
DTEND;TZID=America/Chicago:20260224T190000
DTSTAMP:20260425T093559
CREATED:20260108T034118Z
LAST-MODIFIED:20260108T034738Z
UID:10001654-1771954200-1771959600@lonestarcombatacademy.com
SUMMARY:Open Mat
DESCRIPTION:
URL:https://lonestarcombatacademy.com/schedule/open-mat/2026-02-24/
LOCATION:LSCA – Lyste\, 940 N. Belt Line RD\, Irving\, TX\, 75061\, United States
CATEGORIES:Open Mat Time
END:VEVENT
END:VCALENDAR