BEGIN:VCALENDAR
VERSION:2.0
PRODID:-//Lone Star Combat Academy - ECPv6.15.17.1//NONSGML v1.0//EN
CALSCALE:GREGORIAN
METHOD:PUBLISH
X-WR-CALNAME:Lone Star Combat Academy
X-ORIGINAL-URL:https://lonestarcombatacademy.com
X-WR-CALDESC:Events for Lone Star Combat Academy
REFRESH-INTERVAL;VALUE=DURATION:PT1H
X-Robots-Tag:noindex
X-PUBLISHED-TTL:PT1H
BEGIN:VTIMEZONE
TZID:America/Chicago
BEGIN:DAYLIGHT
TZOFFSETFROM:-0600
TZOFFSETTO:-0500
TZNAME:CDT
DTSTART:20270314T080000
END:DAYLIGHT
BEGIN:STANDARD
TZOFFSETFROM:-0500
TZOFFSETTO:-0600
TZNAME:CST
DTSTART:20271107T070000
END:STANDARD
BEGIN:DAYLIGHT
TZOFFSETFROM:-0600
TZOFFSETTO:-0500
TZNAME:CDT
DTSTART:20280312T080000
END:DAYLIGHT
BEGIN:STANDARD
TZOFFSETFROM:-0500
TZOFFSETTO:-0600
TZNAME:CST
DTSTART:20281105T070000
END:STANDARD
BEGIN:DAYLIGHT
TZOFFSETFROM:-0600
TZOFFSETTO:-0500
TZNAME:CDT
DTSTART:20290311T080000
END:DAYLIGHT
BEGIN:STANDARD
TZOFFSETFROM:-0500
TZOFFSETTO:-0600
TZNAME:CST
DTSTART:20291104T070000
END:STANDARD
END:VTIMEZONE
BEGIN:VEVENT
DTSTART;TZID=America/Chicago:20280524T160000
DTEND;TZID=America/Chicago:20280524T180000
DTSTAMP:20260422T053210
CREATED:20260108T034347Z
LAST-MODIFIED:20260108T034641Z
UID:10004839-1842796800-1842804000@lonestarcombatacademy.com
SUMMARY:Open Mat
DESCRIPTION:
URL:https://lonestarcombatacademy.com/schedule/open-mat-2/2028-05-24/
LOCATION:LSCA – Lyste\, 940 N. Belt Line RD\, Irving\, TX\, 75061\, United States
CATEGORIES:Open Mat Time
END:VEVENT
BEGIN:VEVENT
DTSTART;TZID=America/Chicago:20280524T173000
DTEND;TZID=America/Chicago:20280524T190000
DTSTAMP:20260422T053211
CREATED:20260108T034118Z
LAST-MODIFIED:20260108T034738Z
UID:10002240-1842802200-1842807600@lonestarcombatacademy.com
SUMMARY:Open Mat
DESCRIPTION:
URL:https://lonestarcombatacademy.com/schedule/open-mat/2028-05-24/
LOCATION:LSCA – Lyste\, 940 N. Belt Line RD\, Irving\, TX\, 75061\, United States
CATEGORIES:Open Mat Time
END:VEVENT
BEGIN:VEVENT
DTSTART;TZID=America/Chicago:20280525T160000
DTEND;TZID=America/Chicago:20280525T180000
DTSTAMP:20260422T053211
CREATED:20260108T034347Z
LAST-MODIFIED:20260108T034641Z
UID:10004840-1842883200-1842890400@lonestarcombatacademy.com
SUMMARY:Open Mat
DESCRIPTION:
URL:https://lonestarcombatacademy.com/schedule/open-mat-2/2028-05-25/
LOCATION:LSCA – Lyste\, 940 N. Belt Line RD\, Irving\, TX\, 75061\, United States
CATEGORIES:Open Mat Time
END:VEVENT
BEGIN:VEVENT
DTSTART;TZID=America/Chicago:20280525T173000
DTEND;TZID=America/Chicago:20280525T190000
DTSTAMP:20260422T053211
CREATED:20260108T034118Z
LAST-MODIFIED:20260108T034738Z
UID:10002241-1842888600-1842894000@lonestarcombatacademy.com
SUMMARY:Open Mat
DESCRIPTION:
URL:https://lonestarcombatacademy.com/schedule/open-mat/2028-05-25/
LOCATION:LSCA – Lyste\, 940 N. Belt Line RD\, Irving\, TX\, 75061\, United States
CATEGORIES:Open Mat Time
END:VEVENT
BEGIN:VEVENT
DTSTART;TZID=America/Chicago:20280526T160000
DTEND;TZID=America/Chicago:20280526T180000
DTSTAMP:20260422T053211
CREATED:20260108T034347Z
LAST-MODIFIED:20260108T034641Z
UID:10004841-1842969600-1842976800@lonestarcombatacademy.com
SUMMARY:Open Mat
DESCRIPTION:
URL:https://lonestarcombatacademy.com/schedule/open-mat-2/2028-05-26/
LOCATION:LSCA – Lyste\, 940 N. Belt Line RD\, Irving\, TX\, 75061\, United States
CATEGORIES:Open Mat Time
END:VEVENT
BEGIN:VEVENT
DTSTART;TZID=America/Chicago:20280526T173000
DTEND;TZID=America/Chicago:20280526T190000
DTSTAMP:20260422T053211
CREATED:20260108T034118Z
LAST-MODIFIED:20260108T034738Z
UID:10002242-1842975000-1842980400@lonestarcombatacademy.com
SUMMARY:Open Mat
DESCRIPTION:
URL:https://lonestarcombatacademy.com/schedule/open-mat/2028-05-26/
LOCATION:LSCA – Lyste\, 940 N. Belt Line RD\, Irving\, TX\, 75061\, United States
CATEGORIES:Open Mat Time
END:VEVENT
BEGIN:VEVENT
DTSTART;TZID=America/Chicago:20280528T160000
DTEND;TZID=America/Chicago:20280528T180000
DTSTAMP:20260422T053211
CREATED:20260108T034347Z
LAST-MODIFIED:20260108T034641Z
UID:10004842-1843142400-1843149600@lonestarcombatacademy.com
SUMMARY:Open Mat
DESCRIPTION:
URL:https://lonestarcombatacademy.com/schedule/open-mat-2/2028-05-28/
LOCATION:LSCA – Lyste\, 940 N. Belt Line RD\, Irving\, TX\, 75061\, United States
CATEGORIES:Open Mat Time
END:VEVENT
BEGIN:VEVENT
DTSTART;TZID=America/Chicago:20280529T173000
DTEND;TZID=America/Chicago:20280529T190000
DTSTAMP:20260422T053211
CREATED:20260108T034118Z
LAST-MODIFIED:20260108T034738Z
UID:10002243-1843234200-1843239600@lonestarcombatacademy.com
SUMMARY:Open Mat
DESCRIPTION:
URL:https://lonestarcombatacademy.com/schedule/open-mat/2028-05-29/
LOCATION:LSCA – Lyste\, 940 N. Belt Line RD\, Irving\, TX\, 75061\, United States
CATEGORIES:Open Mat Time
END:VEVENT
BEGIN:VEVENT
DTSTART;TZID=America/Chicago:20280530T160000
DTEND;TZID=America/Chicago:20280530T180000
DTSTAMP:20260422T053211
CREATED:20260108T034347Z
LAST-MODIFIED:20260108T034641Z
UID:10004843-1843315200-1843322400@lonestarcombatacademy.com
SUMMARY:Open Mat
DESCRIPTION:
URL:https://lonestarcombatacademy.com/schedule/open-mat-2/2028-05-30/
LOCATION:LSCA – Lyste\, 940 N. Belt Line RD\, Irving\, TX\, 75061\, United States
CATEGORIES:Open Mat Time
END:VEVENT
BEGIN:VEVENT
DTSTART;TZID=America/Chicago:20280530T173000
DTEND;TZID=America/Chicago:20280530T190000
DTSTAMP:20260422T053211
CREATED:20260108T034118Z
LAST-MODIFIED:20260108T034738Z
UID:10002244-1843320600-1843326000@lonestarcombatacademy.com
SUMMARY:Open Mat
DESCRIPTION:
URL:https://lonestarcombatacademy.com/schedule/open-mat/2028-05-30/
LOCATION:LSCA – Lyste\, 940 N. Belt Line RD\, Irving\, TX\, 75061\, United States
CATEGORIES:Open Mat Time
END:VEVENT
BEGIN:VEVENT
DTSTART;TZID=America/Chicago:20280531T160000
DTEND;TZID=America/Chicago:20280531T180000
DTSTAMP:20260422T053211
CREATED:20260108T034347Z
LAST-MODIFIED:20260108T034641Z
UID:10004844-1843401600-1843408800@lonestarcombatacademy.com
SUMMARY:Open Mat
DESCRIPTION:
URL:https://lonestarcombatacademy.com/schedule/open-mat-2/2028-05-31/
LOCATION:LSCA – Lyste\, 940 N. Belt Line RD\, Irving\, TX\, 75061\, United States
CATEGORIES:Open Mat Time
END:VEVENT
BEGIN:VEVENT
DTSTART;TZID=America/Chicago:20280531T173000
DTEND;TZID=America/Chicago:20280531T190000
DTSTAMP:20260422T053211
CREATED:20260108T034118Z
LAST-MODIFIED:20260108T034738Z
UID:10002245-1843407000-1843412400@lonestarcombatacademy.com
SUMMARY:Open Mat
DESCRIPTION:
URL:https://lonestarcombatacademy.com/schedule/open-mat/2028-05-31/
LOCATION:LSCA – Lyste\, 940 N. Belt Line RD\, Irving\, TX\, 75061\, United States
CATEGORIES:Open Mat Time
END:VEVENT
BEGIN:VEVENT
DTSTART;TZID=America/Chicago:20280601T160000
DTEND;TZID=America/Chicago:20280601T180000
DTSTAMP:20260422T053211
CREATED:20260108T034347Z
LAST-MODIFIED:20260108T034641Z
UID:10004845-1843488000-1843495200@lonestarcombatacademy.com
SUMMARY:Open Mat
DESCRIPTION:
URL:https://lonestarcombatacademy.com/schedule/open-mat-2/2028-06-01/
LOCATION:LSCA – Lyste\, 940 N. Belt Line RD\, Irving\, TX\, 75061\, United States
CATEGORIES:Open Mat Time
END:VEVENT
BEGIN:VEVENT
DTSTART;TZID=America/Chicago:20280601T173000
DTEND;TZID=America/Chicago:20280601T190000
DTSTAMP:20260422T053211
CREATED:20260108T034118Z
LAST-MODIFIED:20260108T034738Z
UID:10002246-1843493400-1843498800@lonestarcombatacademy.com
SUMMARY:Open Mat
DESCRIPTION:
URL:https://lonestarcombatacademy.com/schedule/open-mat/2028-06-01/
LOCATION:LSCA – Lyste\, 940 N. Belt Line RD\, Irving\, TX\, 75061\, United States
CATEGORIES:Open Mat Time
END:VEVENT
BEGIN:VEVENT
DTSTART;TZID=America/Chicago:20280602T160000
DTEND;TZID=America/Chicago:20280602T180000
DTSTAMP:20260422T053211
CREATED:20260108T034347Z
LAST-MODIFIED:20260108T034641Z
UID:10004846-1843574400-1843581600@lonestarcombatacademy.com
SUMMARY:Open Mat
DESCRIPTION:
URL:https://lonestarcombatacademy.com/schedule/open-mat-2/2028-06-02/
LOCATION:LSCA – Lyste\, 940 N. Belt Line RD\, Irving\, TX\, 75061\, United States
CATEGORIES:Open Mat Time
END:VEVENT
BEGIN:VEVENT
DTSTART;TZID=America/Chicago:20280602T173000
DTEND;TZID=America/Chicago:20280602T190000
DTSTAMP:20260422T053211
CREATED:20260108T034118Z
LAST-MODIFIED:20260108T034738Z
UID:10002247-1843579800-1843585200@lonestarcombatacademy.com
SUMMARY:Open Mat
DESCRIPTION:
URL:https://lonestarcombatacademy.com/schedule/open-mat/2028-06-02/
LOCATION:LSCA – Lyste\, 940 N. Belt Line RD\, Irving\, TX\, 75061\, United States
CATEGORIES:Open Mat Time
END:VEVENT
BEGIN:VEVENT
DTSTART;TZID=America/Chicago:20280604T160000
DTEND;TZID=America/Chicago:20280604T180000
DTSTAMP:20260422T053211
CREATED:20260108T034347Z
LAST-MODIFIED:20260108T034641Z
UID:10004847-1843747200-1843754400@lonestarcombatacademy.com
SUMMARY:Open Mat
DESCRIPTION:
URL:https://lonestarcombatacademy.com/schedule/open-mat-2/2028-06-04/
LOCATION:LSCA – Lyste\, 940 N. Belt Line RD\, Irving\, TX\, 75061\, United States
CATEGORIES:Open Mat Time
END:VEVENT
BEGIN:VEVENT
DTSTART;TZID=America/Chicago:20280605T173000
DTEND;TZID=America/Chicago:20280605T190000
DTSTAMP:20260422T053211
CREATED:20260108T034118Z
LAST-MODIFIED:20260108T034738Z
UID:10002248-1843839000-1843844400@lonestarcombatacademy.com
SUMMARY:Open Mat
DESCRIPTION:
URL:https://lonestarcombatacademy.com/schedule/open-mat/2028-06-05/
LOCATION:LSCA – Lyste\, 940 N. Belt Line RD\, Irving\, TX\, 75061\, United States
CATEGORIES:Open Mat Time
END:VEVENT
BEGIN:VEVENT
DTSTART;TZID=America/Chicago:20280606T160000
DTEND;TZID=America/Chicago:20280606T180000
DTSTAMP:20260422T053211
CREATED:20260108T034347Z
LAST-MODIFIED:20260108T034641Z
UID:10004848-1843920000-1843927200@lonestarcombatacademy.com
SUMMARY:Open Mat
DESCRIPTION:
URL:https://lonestarcombatacademy.com/schedule/open-mat-2/2028-06-06/
LOCATION:LSCA – Lyste\, 940 N. Belt Line RD\, Irving\, TX\, 75061\, United States
CATEGORIES:Open Mat Time
END:VEVENT
BEGIN:VEVENT
DTSTART;TZID=America/Chicago:20280606T173000
DTEND;TZID=America/Chicago:20280606T190000
DTSTAMP:20260422T053211
CREATED:20260108T034118Z
LAST-MODIFIED:20260108T034738Z
UID:10002249-1843925400-1843930800@lonestarcombatacademy.com
SUMMARY:Open Mat
DESCRIPTION:
URL:https://lonestarcombatacademy.com/schedule/open-mat/2028-06-06/
LOCATION:LSCA – Lyste\, 940 N. Belt Line RD\, Irving\, TX\, 75061\, United States
CATEGORIES:Open Mat Time
END:VEVENT
BEGIN:VEVENT
DTSTART;TZID=America/Chicago:20280607T160000
DTEND;TZID=America/Chicago:20280607T180000
DTSTAMP:20260422T053211
CREATED:20260108T034347Z
LAST-MODIFIED:20260108T034641Z
UID:10004849-1844006400-1844013600@lonestarcombatacademy.com
SUMMARY:Open Mat
DESCRIPTION:
URL:https://lonestarcombatacademy.com/schedule/open-mat-2/2028-06-07/
LOCATION:LSCA – Lyste\, 940 N. Belt Line RD\, Irving\, TX\, 75061\, United States
CATEGORIES:Open Mat Time
END:VEVENT
BEGIN:VEVENT
DTSTART;TZID=America/Chicago:20280607T173000
DTEND;TZID=America/Chicago:20280607T190000
DTSTAMP:20260422T053211
CREATED:20260108T034118Z
LAST-MODIFIED:20260108T034738Z
UID:10002250-1844011800-1844017200@lonestarcombatacademy.com
SUMMARY:Open Mat
DESCRIPTION:
URL:https://lonestarcombatacademy.com/schedule/open-mat/2028-06-07/
LOCATION:LSCA – Lyste\, 940 N. Belt Line RD\, Irving\, TX\, 75061\, United States
CATEGORIES:Open Mat Time
END:VEVENT
BEGIN:VEVENT
DTSTART;TZID=America/Chicago:20280608T160000
DTEND;TZID=America/Chicago:20280608T180000
DTSTAMP:20260422T053211
CREATED:20260108T034347Z
LAST-MODIFIED:20260108T034641Z
UID:10004850-1844092800-1844100000@lonestarcombatacademy.com
SUMMARY:Open Mat
DESCRIPTION:
URL:https://lonestarcombatacademy.com/schedule/open-mat-2/2028-06-08/
LOCATION:LSCA – Lyste\, 940 N. Belt Line RD\, Irving\, TX\, 75061\, United States
CATEGORIES:Open Mat Time
END:VEVENT
BEGIN:VEVENT
DTSTART;TZID=America/Chicago:20280608T173000
DTEND;TZID=America/Chicago:20280608T190000
DTSTAMP:20260422T053211
CREATED:20260108T034118Z
LAST-MODIFIED:20260108T034738Z
UID:10002251-1844098200-1844103600@lonestarcombatacademy.com
SUMMARY:Open Mat
DESCRIPTION:
URL:https://lonestarcombatacademy.com/schedule/open-mat/2028-06-08/
LOCATION:LSCA – Lyste\, 940 N. Belt Line RD\, Irving\, TX\, 75061\, United States
CATEGORIES:Open Mat Time
END:VEVENT
BEGIN:VEVENT
DTSTART;TZID=America/Chicago:20280609T160000
DTEND;TZID=America/Chicago:20280609T180000
DTSTAMP:20260422T053211
CREATED:20260108T034347Z
LAST-MODIFIED:20260108T034641Z
UID:10004851-1844179200-1844186400@lonestarcombatacademy.com
SUMMARY:Open Mat
DESCRIPTION:
URL:https://lonestarcombatacademy.com/schedule/open-mat-2/2028-06-09/
LOCATION:LSCA – Lyste\, 940 N. Belt Line RD\, Irving\, TX\, 75061\, United States
CATEGORIES:Open Mat Time
END:VEVENT
BEGIN:VEVENT
DTSTART;TZID=America/Chicago:20280609T173000
DTEND;TZID=America/Chicago:20280609T190000
DTSTAMP:20260422T053211
CREATED:20260108T034118Z
LAST-MODIFIED:20260108T034738Z
UID:10002252-1844184600-1844190000@lonestarcombatacademy.com
SUMMARY:Open Mat
DESCRIPTION:
URL:https://lonestarcombatacademy.com/schedule/open-mat/2028-06-09/
LOCATION:LSCA – Lyste\, 940 N. Belt Line RD\, Irving\, TX\, 75061\, United States
CATEGORIES:Open Mat Time
END:VEVENT
BEGIN:VEVENT
DTSTART;TZID=America/Chicago:20280611T160000
DTEND;TZID=America/Chicago:20280611T180000
DTSTAMP:20260422T053211
CREATED:20260108T034347Z
LAST-MODIFIED:20260108T034641Z
UID:10004852-1844352000-1844359200@lonestarcombatacademy.com
SUMMARY:Open Mat
DESCRIPTION:
URL:https://lonestarcombatacademy.com/schedule/open-mat-2/2028-06-11/
LOCATION:LSCA – Lyste\, 940 N. Belt Line RD\, Irving\, TX\, 75061\, United States
CATEGORIES:Open Mat Time
END:VEVENT
BEGIN:VEVENT
DTSTART;TZID=America/Chicago:20280612T173000
DTEND;TZID=America/Chicago:20280612T190000
DTSTAMP:20260422T053211
CREATED:20260108T034118Z
LAST-MODIFIED:20260108T034738Z
UID:10002253-1844443800-1844449200@lonestarcombatacademy.com
SUMMARY:Open Mat
DESCRIPTION:
URL:https://lonestarcombatacademy.com/schedule/open-mat/2028-06-12/
LOCATION:LSCA – Lyste\, 940 N. Belt Line RD\, Irving\, TX\, 75061\, United States
CATEGORIES:Open Mat Time
END:VEVENT
BEGIN:VEVENT
DTSTART;TZID=America/Chicago:20280613T160000
DTEND;TZID=America/Chicago:20280613T180000
DTSTAMP:20260422T053211
CREATED:20260108T034347Z
LAST-MODIFIED:20260108T034641Z
UID:10004853-1844524800-1844532000@lonestarcombatacademy.com
SUMMARY:Open Mat
DESCRIPTION:
URL:https://lonestarcombatacademy.com/schedule/open-mat-2/2028-06-13/
LOCATION:LSCA – Lyste\, 940 N. Belt Line RD\, Irving\, TX\, 75061\, United States
CATEGORIES:Open Mat Time
END:VEVENT
BEGIN:VEVENT
DTSTART;TZID=America/Chicago:20280613T173000
DTEND;TZID=America/Chicago:20280613T190000
DTSTAMP:20260422T053211
CREATED:20260108T034118Z
LAST-MODIFIED:20260108T034738Z
UID:10002254-1844530200-1844535600@lonestarcombatacademy.com
SUMMARY:Open Mat
DESCRIPTION:
URL:https://lonestarcombatacademy.com/schedule/open-mat/2028-06-13/
LOCATION:LSCA – Lyste\, 940 N. Belt Line RD\, Irving\, TX\, 75061\, United States
CATEGORIES:Open Mat Time
END:VEVENT
END:VCALENDAR