BEGIN:VCALENDAR
VERSION:2.0
PRODID:-//Lone Star Combat Academy - ECPv6.15.17.1//NONSGML v1.0//EN
CALSCALE:GREGORIAN
METHOD:PUBLISH
X-ORIGINAL-URL:https://lonestarcombatacademy.com
X-WR-CALDESC:Events for Lone Star Combat Academy
REFRESH-INTERVAL;VALUE=DURATION:PT1H
X-Robots-Tag:noindex
X-PUBLISHED-TTL:PT1H
BEGIN:VTIMEZONE
TZID:America/Chicago
BEGIN:DAYLIGHT
TZOFFSETFROM:-0600
TZOFFSETTO:-0500
TZNAME:CDT
DTSTART:20250309T080000
END:DAYLIGHT
BEGIN:STANDARD
TZOFFSETFROM:-0500
TZOFFSETTO:-0600
TZNAME:CST
DTSTART:20251102T070000
END:STANDARD
BEGIN:DAYLIGHT
TZOFFSETFROM:-0600
TZOFFSETTO:-0500
TZNAME:CDT
DTSTART:20260308T080000
END:DAYLIGHT
BEGIN:STANDARD
TZOFFSETFROM:-0500
TZOFFSETTO:-0600
TZNAME:CST
DTSTART:20261101T070000
END:STANDARD
BEGIN:DAYLIGHT
TZOFFSETFROM:-0600
TZOFFSETTO:-0500
TZNAME:CDT
DTSTART:20270314T080000
END:DAYLIGHT
BEGIN:STANDARD
TZOFFSETFROM:-0500
TZOFFSETTO:-0600
TZNAME:CST
DTSTART:20271107T070000
END:STANDARD
END:VTIMEZONE
BEGIN:VEVENT
DTSTART;TZID=America/Chicago:20260920T160000
DTEND;TZID=America/Chicago:20260920T180000
DTSTAMP:20260424T094302
CREATED:20260108T034347Z
LAST-MODIFIED:20260108T034641Z
UID:10004402-1789920000-1789927200@lonestarcombatacademy.com
SUMMARY:Open Mat
DESCRIPTION:
URL:https://lonestarcombatacademy.com/schedule/open-mat-2/2026-09-20/
LOCATION:LSCA – Lyste\, 940 N. Belt Line RD\, Irving\, TX\, 75061\, United States
CATEGORIES:Open Mat Time
END:VEVENT
BEGIN:VEVENT
DTSTART;TZID=America/Chicago:20260921T173000
DTEND;TZID=America/Chicago:20260921T190000
DTSTAMP:20260424T094302
CREATED:20260108T034118Z
LAST-MODIFIED:20260108T034738Z
UID:10001803-1790011800-1790017200@lonestarcombatacademy.com
SUMMARY:Open Mat
DESCRIPTION:
URL:https://lonestarcombatacademy.com/schedule/open-mat/2026-09-21/
LOCATION:LSCA – Lyste\, 940 N. Belt Line RD\, Irving\, TX\, 75061\, United States
CATEGORIES:Open Mat Time
END:VEVENT
BEGIN:VEVENT
DTSTART;TZID=America/Chicago:20260922T160000
DTEND;TZID=America/Chicago:20260922T180000
DTSTAMP:20260424T094302
CREATED:20260108T034347Z
LAST-MODIFIED:20260108T034641Z
UID:10004403-1790092800-1790100000@lonestarcombatacademy.com
SUMMARY:Open Mat
DESCRIPTION:
URL:https://lonestarcombatacademy.com/schedule/open-mat-2/2026-09-22/
LOCATION:LSCA – Lyste\, 940 N. Belt Line RD\, Irving\, TX\, 75061\, United States
CATEGORIES:Open Mat Time
END:VEVENT
BEGIN:VEVENT
DTSTART;TZID=America/Chicago:20260922T173000
DTEND;TZID=America/Chicago:20260922T190000
DTSTAMP:20260424T094302
CREATED:20260108T034118Z
LAST-MODIFIED:20260108T034738Z
UID:10001804-1790098200-1790103600@lonestarcombatacademy.com
SUMMARY:Open Mat
DESCRIPTION:
URL:https://lonestarcombatacademy.com/schedule/open-mat/2026-09-22/
LOCATION:LSCA – Lyste\, 940 N. Belt Line RD\, Irving\, TX\, 75061\, United States
CATEGORIES:Open Mat Time
END:VEVENT
BEGIN:VEVENT
DTSTART;TZID=America/Chicago:20260923T160000
DTEND;TZID=America/Chicago:20260923T180000
DTSTAMP:20260424T094302
CREATED:20260108T034347Z
LAST-MODIFIED:20260108T034641Z
UID:10004404-1790179200-1790186400@lonestarcombatacademy.com
SUMMARY:Open Mat
DESCRIPTION:
URL:https://lonestarcombatacademy.com/schedule/open-mat-2/2026-09-23/
LOCATION:LSCA – Lyste\, 940 N. Belt Line RD\, Irving\, TX\, 75061\, United States
CATEGORIES:Open Mat Time
END:VEVENT
BEGIN:VEVENT
DTSTART;TZID=America/Chicago:20260923T173000
DTEND;TZID=America/Chicago:20260923T190000
DTSTAMP:20260424T094302
CREATED:20260108T034118Z
LAST-MODIFIED:20260108T034738Z
UID:10001805-1790184600-1790190000@lonestarcombatacademy.com
SUMMARY:Open Mat
DESCRIPTION:
URL:https://lonestarcombatacademy.com/schedule/open-mat/2026-09-23/
LOCATION:LSCA – Lyste\, 940 N. Belt Line RD\, Irving\, TX\, 75061\, United States
CATEGORIES:Open Mat Time
END:VEVENT
BEGIN:VEVENT
DTSTART;TZID=America/Chicago:20260924T160000
DTEND;TZID=America/Chicago:20260924T180000
DTSTAMP:20260424T094302
CREATED:20260108T034347Z
LAST-MODIFIED:20260108T034641Z
UID:10004405-1790265600-1790272800@lonestarcombatacademy.com
SUMMARY:Open Mat
DESCRIPTION:
URL:https://lonestarcombatacademy.com/schedule/open-mat-2/2026-09-24/
LOCATION:LSCA – Lyste\, 940 N. Belt Line RD\, Irving\, TX\, 75061\, United States
CATEGORIES:Open Mat Time
END:VEVENT
BEGIN:VEVENT
DTSTART;TZID=America/Chicago:20260924T173000
DTEND;TZID=America/Chicago:20260924T190000
DTSTAMP:20260424T094302
CREATED:20260108T034118Z
LAST-MODIFIED:20260108T034738Z
UID:10001806-1790271000-1790276400@lonestarcombatacademy.com
SUMMARY:Open Mat
DESCRIPTION:
URL:https://lonestarcombatacademy.com/schedule/open-mat/2026-09-24/
LOCATION:LSCA – Lyste\, 940 N. Belt Line RD\, Irving\, TX\, 75061\, United States
CATEGORIES:Open Mat Time
END:VEVENT
BEGIN:VEVENT
DTSTART;TZID=America/Chicago:20260925T160000
DTEND;TZID=America/Chicago:20260925T180000
DTSTAMP:20260424T094302
CREATED:20260108T034347Z
LAST-MODIFIED:20260108T034641Z
UID:10004406-1790352000-1790359200@lonestarcombatacademy.com
SUMMARY:Open Mat
DESCRIPTION:
URL:https://lonestarcombatacademy.com/schedule/open-mat-2/2026-09-25/
LOCATION:LSCA – Lyste\, 940 N. Belt Line RD\, Irving\, TX\, 75061\, United States
CATEGORIES:Open Mat Time
END:VEVENT
BEGIN:VEVENT
DTSTART;TZID=America/Chicago:20260925T173000
DTEND;TZID=America/Chicago:20260925T190000
DTSTAMP:20260424T094302
CREATED:20260108T034118Z
LAST-MODIFIED:20260108T034738Z
UID:10001807-1790357400-1790362800@lonestarcombatacademy.com
SUMMARY:Open Mat
DESCRIPTION:
URL:https://lonestarcombatacademy.com/schedule/open-mat/2026-09-25/
LOCATION:LSCA – Lyste\, 940 N. Belt Line RD\, Irving\, TX\, 75061\, United States
CATEGORIES:Open Mat Time
END:VEVENT
BEGIN:VEVENT
DTSTART;TZID=America/Chicago:20260927T160000
DTEND;TZID=America/Chicago:20260927T180000
DTSTAMP:20260424T094302
CREATED:20260108T034347Z
LAST-MODIFIED:20260108T034641Z
UID:10004407-1790524800-1790532000@lonestarcombatacademy.com
SUMMARY:Open Mat
DESCRIPTION:
URL:https://lonestarcombatacademy.com/schedule/open-mat-2/2026-09-27/
LOCATION:LSCA – Lyste\, 940 N. Belt Line RD\, Irving\, TX\, 75061\, United States
CATEGORIES:Open Mat Time
END:VEVENT
BEGIN:VEVENT
DTSTART;TZID=America/Chicago:20260928T173000
DTEND;TZID=America/Chicago:20260928T190000
DTSTAMP:20260424T094302
CREATED:20260108T034118Z
LAST-MODIFIED:20260108T034738Z
UID:10001808-1790616600-1790622000@lonestarcombatacademy.com
SUMMARY:Open Mat
DESCRIPTION:
URL:https://lonestarcombatacademy.com/schedule/open-mat/2026-09-28/
LOCATION:LSCA – Lyste\, 940 N. Belt Line RD\, Irving\, TX\, 75061\, United States
CATEGORIES:Open Mat Time
END:VEVENT
BEGIN:VEVENT
DTSTART;TZID=America/Chicago:20260929T160000
DTEND;TZID=America/Chicago:20260929T180000
DTSTAMP:20260424T094302
CREATED:20260108T034347Z
LAST-MODIFIED:20260108T034641Z
UID:10004408-1790697600-1790704800@lonestarcombatacademy.com
SUMMARY:Open Mat
DESCRIPTION:
URL:https://lonestarcombatacademy.com/schedule/open-mat-2/2026-09-29/
LOCATION:LSCA – Lyste\, 940 N. Belt Line RD\, Irving\, TX\, 75061\, United States
CATEGORIES:Open Mat Time
END:VEVENT
BEGIN:VEVENT
DTSTART;TZID=America/Chicago:20260929T173000
DTEND;TZID=America/Chicago:20260929T190000
DTSTAMP:20260424T094302
CREATED:20260108T034118Z
LAST-MODIFIED:20260108T034738Z
UID:10001809-1790703000-1790708400@lonestarcombatacademy.com
SUMMARY:Open Mat
DESCRIPTION:
URL:https://lonestarcombatacademy.com/schedule/open-mat/2026-09-29/
LOCATION:LSCA – Lyste\, 940 N. Belt Line RD\, Irving\, TX\, 75061\, United States
CATEGORIES:Open Mat Time
END:VEVENT
BEGIN:VEVENT
DTSTART;TZID=America/Chicago:20260930T160000
DTEND;TZID=America/Chicago:20260930T180000
DTSTAMP:20260424T094302
CREATED:20260108T034347Z
LAST-MODIFIED:20260108T034641Z
UID:10004409-1790784000-1790791200@lonestarcombatacademy.com
SUMMARY:Open Mat
DESCRIPTION:
URL:https://lonestarcombatacademy.com/schedule/open-mat-2/2026-09-30/
LOCATION:LSCA – Lyste\, 940 N. Belt Line RD\, Irving\, TX\, 75061\, United States
CATEGORIES:Open Mat Time
END:VEVENT
BEGIN:VEVENT
DTSTART;TZID=America/Chicago:20260930T173000
DTEND;TZID=America/Chicago:20260930T190000
DTSTAMP:20260424T094302
CREATED:20260108T034118Z
LAST-MODIFIED:20260108T034738Z
UID:10001810-1790789400-1790794800@lonestarcombatacademy.com
SUMMARY:Open Mat
DESCRIPTION:
URL:https://lonestarcombatacademy.com/schedule/open-mat/2026-09-30/
LOCATION:LSCA – Lyste\, 940 N. Belt Line RD\, Irving\, TX\, 75061\, United States
CATEGORIES:Open Mat Time
END:VEVENT
BEGIN:VEVENT
DTSTART;TZID=America/Chicago:20261001T160000
DTEND;TZID=America/Chicago:20261001T180000
DTSTAMP:20260424T094302
CREATED:20260108T034347Z
LAST-MODIFIED:20260108T034641Z
UID:10004410-1790870400-1790877600@lonestarcombatacademy.com
SUMMARY:Open Mat
DESCRIPTION:
URL:https://lonestarcombatacademy.com/schedule/open-mat-2/2026-10-01/
LOCATION:LSCA – Lyste\, 940 N. Belt Line RD\, Irving\, TX\, 75061\, United States
CATEGORIES:Open Mat Time
END:VEVENT
BEGIN:VEVENT
DTSTART;TZID=America/Chicago:20261001T173000
DTEND;TZID=America/Chicago:20261001T190000
DTSTAMP:20260424T094302
CREATED:20260108T034118Z
LAST-MODIFIED:20260108T034738Z
UID:10001811-1790875800-1790881200@lonestarcombatacademy.com
SUMMARY:Open Mat
DESCRIPTION:
URL:https://lonestarcombatacademy.com/schedule/open-mat/2026-10-01/
LOCATION:LSCA – Lyste\, 940 N. Belt Line RD\, Irving\, TX\, 75061\, United States
CATEGORIES:Open Mat Time
END:VEVENT
BEGIN:VEVENT
DTSTART;TZID=America/Chicago:20261002T160000
DTEND;TZID=America/Chicago:20261002T180000
DTSTAMP:20260424T094303
CREATED:20260108T034347Z
LAST-MODIFIED:20260108T034641Z
UID:10004411-1790956800-1790964000@lonestarcombatacademy.com
SUMMARY:Open Mat
DESCRIPTION:
URL:https://lonestarcombatacademy.com/schedule/open-mat-2/2026-10-02/
LOCATION:LSCA – Lyste\, 940 N. Belt Line RD\, Irving\, TX\, 75061\, United States
CATEGORIES:Open Mat Time
END:VEVENT
BEGIN:VEVENT
DTSTART;TZID=America/Chicago:20261002T173000
DTEND;TZID=America/Chicago:20261002T190000
DTSTAMP:20260424T094303
CREATED:20260108T034118Z
LAST-MODIFIED:20260108T034738Z
UID:10001812-1790962200-1790967600@lonestarcombatacademy.com
SUMMARY:Open Mat
DESCRIPTION:
URL:https://lonestarcombatacademy.com/schedule/open-mat/2026-10-02/
LOCATION:LSCA – Lyste\, 940 N. Belt Line RD\, Irving\, TX\, 75061\, United States
CATEGORIES:Open Mat Time
END:VEVENT
BEGIN:VEVENT
DTSTART;TZID=America/Chicago:20261004T160000
DTEND;TZID=America/Chicago:20261004T180000
DTSTAMP:20260424T094303
CREATED:20260108T034347Z
LAST-MODIFIED:20260108T034641Z
UID:10004412-1791129600-1791136800@lonestarcombatacademy.com
SUMMARY:Open Mat
DESCRIPTION:
URL:https://lonestarcombatacademy.com/schedule/open-mat-2/2026-10-04/
LOCATION:LSCA – Lyste\, 940 N. Belt Line RD\, Irving\, TX\, 75061\, United States
CATEGORIES:Open Mat Time
END:VEVENT
BEGIN:VEVENT
DTSTART;TZID=America/Chicago:20261005T173000
DTEND;TZID=America/Chicago:20261005T190000
DTSTAMP:20260424T094303
CREATED:20260108T034118Z
LAST-MODIFIED:20260108T034738Z
UID:10001813-1791221400-1791226800@lonestarcombatacademy.com
SUMMARY:Open Mat
DESCRIPTION:
URL:https://lonestarcombatacademy.com/schedule/open-mat/2026-10-05/
LOCATION:LSCA – Lyste\, 940 N. Belt Line RD\, Irving\, TX\, 75061\, United States
CATEGORIES:Open Mat Time
END:VEVENT
BEGIN:VEVENT
DTSTART;TZID=America/Chicago:20261006T160000
DTEND;TZID=America/Chicago:20261006T180000
DTSTAMP:20260424T094303
CREATED:20260108T034347Z
LAST-MODIFIED:20260108T034641Z
UID:10004413-1791302400-1791309600@lonestarcombatacademy.com
SUMMARY:Open Mat
DESCRIPTION:
URL:https://lonestarcombatacademy.com/schedule/open-mat-2/2026-10-06/
LOCATION:LSCA – Lyste\, 940 N. Belt Line RD\, Irving\, TX\, 75061\, United States
CATEGORIES:Open Mat Time
END:VEVENT
BEGIN:VEVENT
DTSTART;TZID=America/Chicago:20261006T173000
DTEND;TZID=America/Chicago:20261006T190000
DTSTAMP:20260424T094303
CREATED:20260108T034118Z
LAST-MODIFIED:20260108T034738Z
UID:10001814-1791307800-1791313200@lonestarcombatacademy.com
SUMMARY:Open Mat
DESCRIPTION:
URL:https://lonestarcombatacademy.com/schedule/open-mat/2026-10-06/
LOCATION:LSCA – Lyste\, 940 N. Belt Line RD\, Irving\, TX\, 75061\, United States
CATEGORIES:Open Mat Time
END:VEVENT
BEGIN:VEVENT
DTSTART;TZID=America/Chicago:20261007T160000
DTEND;TZID=America/Chicago:20261007T180000
DTSTAMP:20260424T094303
CREATED:20260108T034347Z
LAST-MODIFIED:20260108T034641Z
UID:10004414-1791388800-1791396000@lonestarcombatacademy.com
SUMMARY:Open Mat
DESCRIPTION:
URL:https://lonestarcombatacademy.com/schedule/open-mat-2/2026-10-07/
LOCATION:LSCA – Lyste\, 940 N. Belt Line RD\, Irving\, TX\, 75061\, United States
CATEGORIES:Open Mat Time
END:VEVENT
BEGIN:VEVENT
DTSTART;TZID=America/Chicago:20261007T173000
DTEND;TZID=America/Chicago:20261007T190000
DTSTAMP:20260424T094303
CREATED:20260108T034118Z
LAST-MODIFIED:20260108T034738Z
UID:10001815-1791394200-1791399600@lonestarcombatacademy.com
SUMMARY:Open Mat
DESCRIPTION:
URL:https://lonestarcombatacademy.com/schedule/open-mat/2026-10-07/
LOCATION:LSCA – Lyste\, 940 N. Belt Line RD\, Irving\, TX\, 75061\, United States
CATEGORIES:Open Mat Time
END:VEVENT
BEGIN:VEVENT
DTSTART;TZID=America/Chicago:20261008T160000
DTEND;TZID=America/Chicago:20261008T180000
DTSTAMP:20260424T094303
CREATED:20260108T034347Z
LAST-MODIFIED:20260108T034641Z
UID:10004415-1791475200-1791482400@lonestarcombatacademy.com
SUMMARY:Open Mat
DESCRIPTION:
URL:https://lonestarcombatacademy.com/schedule/open-mat-2/2026-10-08/
LOCATION:LSCA – Lyste\, 940 N. Belt Line RD\, Irving\, TX\, 75061\, United States
CATEGORIES:Open Mat Time
END:VEVENT
BEGIN:VEVENT
DTSTART;TZID=America/Chicago:20261008T173000
DTEND;TZID=America/Chicago:20261008T190000
DTSTAMP:20260424T094303
CREATED:20260108T034118Z
LAST-MODIFIED:20260108T034738Z
UID:10001816-1791480600-1791486000@lonestarcombatacademy.com
SUMMARY:Open Mat
DESCRIPTION:
URL:https://lonestarcombatacademy.com/schedule/open-mat/2026-10-08/
LOCATION:LSCA – Lyste\, 940 N. Belt Line RD\, Irving\, TX\, 75061\, United States
CATEGORIES:Open Mat Time
END:VEVENT
BEGIN:VEVENT
DTSTART;TZID=America/Chicago:20261009T160000
DTEND;TZID=America/Chicago:20261009T180000
DTSTAMP:20260424T094303
CREATED:20260108T034347Z
LAST-MODIFIED:20260108T034641Z
UID:10004416-1791561600-1791568800@lonestarcombatacademy.com
SUMMARY:Open Mat
DESCRIPTION:
URL:https://lonestarcombatacademy.com/schedule/open-mat-2/2026-10-09/
LOCATION:LSCA – Lyste\, 940 N. Belt Line RD\, Irving\, TX\, 75061\, United States
CATEGORIES:Open Mat Time
END:VEVENT
BEGIN:VEVENT
DTSTART;TZID=America/Chicago:20261009T173000
DTEND;TZID=America/Chicago:20261009T190000
DTSTAMP:20260424T094303
CREATED:20260108T034118Z
LAST-MODIFIED:20260108T034738Z
UID:10001817-1791567000-1791572400@lonestarcombatacademy.com
SUMMARY:Open Mat
DESCRIPTION:
URL:https://lonestarcombatacademy.com/schedule/open-mat/2026-10-09/
LOCATION:LSCA – Lyste\, 940 N. Belt Line RD\, Irving\, TX\, 75061\, United States
CATEGORIES:Open Mat Time
END:VEVENT
END:VCALENDAR