BEGIN:VCALENDAR
VERSION:2.0
PRODID:-//Lone Star Combat Academy - ECPv6.15.17.1//NONSGML v1.0//EN
CALSCALE:GREGORIAN
METHOD:PUBLISH
X-ORIGINAL-URL:https://lonestarcombatacademy.com
X-WR-CALDESC:Events for Lone Star Combat Academy
REFRESH-INTERVAL;VALUE=DURATION:PT1H
X-Robots-Tag:noindex
X-PUBLISHED-TTL:PT1H
BEGIN:VTIMEZONE
TZID:America/Chicago
BEGIN:DAYLIGHT
TZOFFSETFROM:-0600
TZOFFSETTO:-0500
TZNAME:CDT
DTSTART:20270314T080000
END:DAYLIGHT
BEGIN:STANDARD
TZOFFSETFROM:-0500
TZOFFSETTO:-0600
TZNAME:CST
DTSTART:20271107T070000
END:STANDARD
BEGIN:DAYLIGHT
TZOFFSETFROM:-0600
TZOFFSETTO:-0500
TZNAME:CDT
DTSTART:20280312T080000
END:DAYLIGHT
BEGIN:STANDARD
TZOFFSETFROM:-0500
TZOFFSETTO:-0600
TZNAME:CST
DTSTART:20281105T070000
END:STANDARD
BEGIN:DAYLIGHT
TZOFFSETFROM:-0600
TZOFFSETTO:-0500
TZNAME:CDT
DTSTART:20290311T080000
END:DAYLIGHT
BEGIN:STANDARD
TZOFFSETFROM:-0500
TZOFFSETTO:-0600
TZNAME:CST
DTSTART:20291104T070000
END:STANDARD
END:VTIMEZONE
BEGIN:VEVENT
DTSTART;TZID=America/Chicago:20280501T173000
DTEND;TZID=America/Chicago:20280501T190000
DTSTAMP:20260419T182930
CREATED:20260108T034118Z
LAST-MODIFIED:20260108T034738Z
UID:10002223-1840815000-1840820400@lonestarcombatacademy.com
SUMMARY:Open Mat
DESCRIPTION:
URL:https://lonestarcombatacademy.com/schedule/open-mat/2028-05-01/
LOCATION:LSCA – Lyste\, 940 N. Belt Line RD\, Irving\, TX\, 75061\, United States
CATEGORIES:Open Mat Time
END:VEVENT
BEGIN:VEVENT
DTSTART;TZID=America/Chicago:20280502T160000
DTEND;TZID=America/Chicago:20280502T180000
DTSTAMP:20260419T182930
CREATED:20260108T034347Z
LAST-MODIFIED:20260108T034641Z
UID:10004823-1840896000-1840903200@lonestarcombatacademy.com
SUMMARY:Open Mat
DESCRIPTION:
URL:https://lonestarcombatacademy.com/schedule/open-mat-2/2028-05-02/
LOCATION:LSCA – Lyste\, 940 N. Belt Line RD\, Irving\, TX\, 75061\, United States
CATEGORIES:Open Mat Time
END:VEVENT
BEGIN:VEVENT
DTSTART;TZID=America/Chicago:20280502T173000
DTEND;TZID=America/Chicago:20280502T190000
DTSTAMP:20260419T182930
CREATED:20260108T034118Z
LAST-MODIFIED:20260108T034738Z
UID:10002224-1840901400-1840906800@lonestarcombatacademy.com
SUMMARY:Open Mat
DESCRIPTION:
URL:https://lonestarcombatacademy.com/schedule/open-mat/2028-05-02/
LOCATION:LSCA – Lyste\, 940 N. Belt Line RD\, Irving\, TX\, 75061\, United States
CATEGORIES:Open Mat Time
END:VEVENT
BEGIN:VEVENT
DTSTART;TZID=America/Chicago:20280503T160000
DTEND;TZID=America/Chicago:20280503T180000
DTSTAMP:20260419T182930
CREATED:20260108T034347Z
LAST-MODIFIED:20260108T034641Z
UID:10004824-1840982400-1840989600@lonestarcombatacademy.com
SUMMARY:Open Mat
DESCRIPTION:
URL:https://lonestarcombatacademy.com/schedule/open-mat-2/2028-05-03/
LOCATION:LSCA – Lyste\, 940 N. Belt Line RD\, Irving\, TX\, 75061\, United States
CATEGORIES:Open Mat Time
END:VEVENT
BEGIN:VEVENT
DTSTART;TZID=America/Chicago:20280503T173000
DTEND;TZID=America/Chicago:20280503T190000
DTSTAMP:20260419T182930
CREATED:20260108T034118Z
LAST-MODIFIED:20260108T034738Z
UID:10002225-1840987800-1840993200@lonestarcombatacademy.com
SUMMARY:Open Mat
DESCRIPTION:
URL:https://lonestarcombatacademy.com/schedule/open-mat/2028-05-03/
LOCATION:LSCA – Lyste\, 940 N. Belt Line RD\, Irving\, TX\, 75061\, United States
CATEGORIES:Open Mat Time
END:VEVENT
BEGIN:VEVENT
DTSTART;TZID=America/Chicago:20280504T160000
DTEND;TZID=America/Chicago:20280504T180000
DTSTAMP:20260419T182930
CREATED:20260108T034347Z
LAST-MODIFIED:20260108T034641Z
UID:10004825-1841068800-1841076000@lonestarcombatacademy.com
SUMMARY:Open Mat
DESCRIPTION:
URL:https://lonestarcombatacademy.com/schedule/open-mat-2/2028-05-04/
LOCATION:LSCA – Lyste\, 940 N. Belt Line RD\, Irving\, TX\, 75061\, United States
CATEGORIES:Open Mat Time
END:VEVENT
BEGIN:VEVENT
DTSTART;TZID=America/Chicago:20280504T173000
DTEND;TZID=America/Chicago:20280504T190000
DTSTAMP:20260419T182930
CREATED:20260108T034118Z
LAST-MODIFIED:20260108T034738Z
UID:10002226-1841074200-1841079600@lonestarcombatacademy.com
SUMMARY:Open Mat
DESCRIPTION:
URL:https://lonestarcombatacademy.com/schedule/open-mat/2028-05-04/
LOCATION:LSCA – Lyste\, 940 N. Belt Line RD\, Irving\, TX\, 75061\, United States
CATEGORIES:Open Mat Time
END:VEVENT
BEGIN:VEVENT
DTSTART;TZID=America/Chicago:20280505T160000
DTEND;TZID=America/Chicago:20280505T180000
DTSTAMP:20260419T182930
CREATED:20260108T034347Z
LAST-MODIFIED:20260108T034641Z
UID:10004826-1841155200-1841162400@lonestarcombatacademy.com
SUMMARY:Open Mat
DESCRIPTION:
URL:https://lonestarcombatacademy.com/schedule/open-mat-2/2028-05-05/
LOCATION:LSCA – Lyste\, 940 N. Belt Line RD\, Irving\, TX\, 75061\, United States
CATEGORIES:Open Mat Time
END:VEVENT
BEGIN:VEVENT
DTSTART;TZID=America/Chicago:20280505T173000
DTEND;TZID=America/Chicago:20280505T190000
DTSTAMP:20260419T182930
CREATED:20260108T034118Z
LAST-MODIFIED:20260108T034738Z
UID:10002227-1841160600-1841166000@lonestarcombatacademy.com
SUMMARY:Open Mat
DESCRIPTION:
URL:https://lonestarcombatacademy.com/schedule/open-mat/2028-05-05/
LOCATION:LSCA – Lyste\, 940 N. Belt Line RD\, Irving\, TX\, 75061\, United States
CATEGORIES:Open Mat Time
END:VEVENT
BEGIN:VEVENT
DTSTART;TZID=America/Chicago:20280507T160000
DTEND;TZID=America/Chicago:20280507T180000
DTSTAMP:20260419T182930
CREATED:20260108T034347Z
LAST-MODIFIED:20260108T034641Z
UID:10004827-1841328000-1841335200@lonestarcombatacademy.com
SUMMARY:Open Mat
DESCRIPTION:
URL:https://lonestarcombatacademy.com/schedule/open-mat-2/2028-05-07/
LOCATION:LSCA – Lyste\, 940 N. Belt Line RD\, Irving\, TX\, 75061\, United States
CATEGORIES:Open Mat Time
END:VEVENT
BEGIN:VEVENT
DTSTART;TZID=America/Chicago:20280508T173000
DTEND;TZID=America/Chicago:20280508T190000
DTSTAMP:20260419T182930
CREATED:20260108T034118Z
LAST-MODIFIED:20260108T034738Z
UID:10002228-1841419800-1841425200@lonestarcombatacademy.com
SUMMARY:Open Mat
DESCRIPTION:
URL:https://lonestarcombatacademy.com/schedule/open-mat/2028-05-08/
LOCATION:LSCA – Lyste\, 940 N. Belt Line RD\, Irving\, TX\, 75061\, United States
CATEGORIES:Open Mat Time
END:VEVENT
BEGIN:VEVENT
DTSTART;TZID=America/Chicago:20280509T160000
DTEND;TZID=America/Chicago:20280509T180000
DTSTAMP:20260419T182930
CREATED:20260108T034347Z
LAST-MODIFIED:20260108T034641Z
UID:10004828-1841500800-1841508000@lonestarcombatacademy.com
SUMMARY:Open Mat
DESCRIPTION:
URL:https://lonestarcombatacademy.com/schedule/open-mat-2/2028-05-09/
LOCATION:LSCA – Lyste\, 940 N. Belt Line RD\, Irving\, TX\, 75061\, United States
CATEGORIES:Open Mat Time
END:VEVENT
BEGIN:VEVENT
DTSTART;TZID=America/Chicago:20280509T173000
DTEND;TZID=America/Chicago:20280509T190000
DTSTAMP:20260419T182930
CREATED:20260108T034118Z
LAST-MODIFIED:20260108T034738Z
UID:10002229-1841506200-1841511600@lonestarcombatacademy.com
SUMMARY:Open Mat
DESCRIPTION:
URL:https://lonestarcombatacademy.com/schedule/open-mat/2028-05-09/
LOCATION:LSCA – Lyste\, 940 N. Belt Line RD\, Irving\, TX\, 75061\, United States
CATEGORIES:Open Mat Time
END:VEVENT
BEGIN:VEVENT
DTSTART;TZID=America/Chicago:20280510T160000
DTEND;TZID=America/Chicago:20280510T180000
DTSTAMP:20260419T182930
CREATED:20260108T034347Z
LAST-MODIFIED:20260108T034641Z
UID:10004829-1841587200-1841594400@lonestarcombatacademy.com
SUMMARY:Open Mat
DESCRIPTION:
URL:https://lonestarcombatacademy.com/schedule/open-mat-2/2028-05-10/
LOCATION:LSCA – Lyste\, 940 N. Belt Line RD\, Irving\, TX\, 75061\, United States
CATEGORIES:Open Mat Time
END:VEVENT
BEGIN:VEVENT
DTSTART;TZID=America/Chicago:20280510T173000
DTEND;TZID=America/Chicago:20280510T190000
DTSTAMP:20260419T182930
CREATED:20260108T034118Z
LAST-MODIFIED:20260108T034738Z
UID:10002230-1841592600-1841598000@lonestarcombatacademy.com
SUMMARY:Open Mat
DESCRIPTION:
URL:https://lonestarcombatacademy.com/schedule/open-mat/2028-05-10/
LOCATION:LSCA – Lyste\, 940 N. Belt Line RD\, Irving\, TX\, 75061\, United States
CATEGORIES:Open Mat Time
END:VEVENT
BEGIN:VEVENT
DTSTART;TZID=America/Chicago:20280511T160000
DTEND;TZID=America/Chicago:20280511T180000
DTSTAMP:20260419T182930
CREATED:20260108T034347Z
LAST-MODIFIED:20260108T034641Z
UID:10004830-1841673600-1841680800@lonestarcombatacademy.com
SUMMARY:Open Mat
DESCRIPTION:
URL:https://lonestarcombatacademy.com/schedule/open-mat-2/2028-05-11/
LOCATION:LSCA – Lyste\, 940 N. Belt Line RD\, Irving\, TX\, 75061\, United States
CATEGORIES:Open Mat Time
END:VEVENT
BEGIN:VEVENT
DTSTART;TZID=America/Chicago:20280511T173000
DTEND;TZID=America/Chicago:20280511T190000
DTSTAMP:20260419T182930
CREATED:20260108T034118Z
LAST-MODIFIED:20260108T034738Z
UID:10002231-1841679000-1841684400@lonestarcombatacademy.com
SUMMARY:Open Mat
DESCRIPTION:
URL:https://lonestarcombatacademy.com/schedule/open-mat/2028-05-11/
LOCATION:LSCA – Lyste\, 940 N. Belt Line RD\, Irving\, TX\, 75061\, United States
CATEGORIES:Open Mat Time
END:VEVENT
BEGIN:VEVENT
DTSTART;TZID=America/Chicago:20280512T160000
DTEND;TZID=America/Chicago:20280512T180000
DTSTAMP:20260419T182930
CREATED:20260108T034347Z
LAST-MODIFIED:20260108T034641Z
UID:10004831-1841760000-1841767200@lonestarcombatacademy.com
SUMMARY:Open Mat
DESCRIPTION:
URL:https://lonestarcombatacademy.com/schedule/open-mat-2/2028-05-12/
LOCATION:LSCA – Lyste\, 940 N. Belt Line RD\, Irving\, TX\, 75061\, United States
CATEGORIES:Open Mat Time
END:VEVENT
BEGIN:VEVENT
DTSTART;TZID=America/Chicago:20280512T173000
DTEND;TZID=America/Chicago:20280512T190000
DTSTAMP:20260419T182930
CREATED:20260108T034118Z
LAST-MODIFIED:20260108T034738Z
UID:10002232-1841765400-1841770800@lonestarcombatacademy.com
SUMMARY:Open Mat
DESCRIPTION:
URL:https://lonestarcombatacademy.com/schedule/open-mat/2028-05-12/
LOCATION:LSCA – Lyste\, 940 N. Belt Line RD\, Irving\, TX\, 75061\, United States
CATEGORIES:Open Mat Time
END:VEVENT
BEGIN:VEVENT
DTSTART;TZID=America/Chicago:20280514T160000
DTEND;TZID=America/Chicago:20280514T180000
DTSTAMP:20260419T182930
CREATED:20260108T034347Z
LAST-MODIFIED:20260108T034641Z
UID:10004832-1841932800-1841940000@lonestarcombatacademy.com
SUMMARY:Open Mat
DESCRIPTION:
URL:https://lonestarcombatacademy.com/schedule/open-mat-2/2028-05-14/
LOCATION:LSCA – Lyste\, 940 N. Belt Line RD\, Irving\, TX\, 75061\, United States
CATEGORIES:Open Mat Time
END:VEVENT
BEGIN:VEVENT
DTSTART;TZID=America/Chicago:20280515T173000
DTEND;TZID=America/Chicago:20280515T190000
DTSTAMP:20260419T182930
CREATED:20260108T034118Z
LAST-MODIFIED:20260108T034738Z
UID:10002233-1842024600-1842030000@lonestarcombatacademy.com
SUMMARY:Open Mat
DESCRIPTION:
URL:https://lonestarcombatacademy.com/schedule/open-mat/2028-05-15/
LOCATION:LSCA – Lyste\, 940 N. Belt Line RD\, Irving\, TX\, 75061\, United States
CATEGORIES:Open Mat Time
END:VEVENT
BEGIN:VEVENT
DTSTART;TZID=America/Chicago:20280516T160000
DTEND;TZID=America/Chicago:20280516T180000
DTSTAMP:20260419T182930
CREATED:20260108T034347Z
LAST-MODIFIED:20260108T034641Z
UID:10004833-1842105600-1842112800@lonestarcombatacademy.com
SUMMARY:Open Mat
DESCRIPTION:
URL:https://lonestarcombatacademy.com/schedule/open-mat-2/2028-05-16/
LOCATION:LSCA – Lyste\, 940 N. Belt Line RD\, Irving\, TX\, 75061\, United States
CATEGORIES:Open Mat Time
END:VEVENT
BEGIN:VEVENT
DTSTART;TZID=America/Chicago:20280516T173000
DTEND;TZID=America/Chicago:20280516T190000
DTSTAMP:20260419T182930
CREATED:20260108T034118Z
LAST-MODIFIED:20260108T034738Z
UID:10002234-1842111000-1842116400@lonestarcombatacademy.com
SUMMARY:Open Mat
DESCRIPTION:
URL:https://lonestarcombatacademy.com/schedule/open-mat/2028-05-16/
LOCATION:LSCA – Lyste\, 940 N. Belt Line RD\, Irving\, TX\, 75061\, United States
CATEGORIES:Open Mat Time
END:VEVENT
BEGIN:VEVENT
DTSTART;TZID=America/Chicago:20280517T160000
DTEND;TZID=America/Chicago:20280517T180000
DTSTAMP:20260419T182930
CREATED:20260108T034347Z
LAST-MODIFIED:20260108T034641Z
UID:10004834-1842192000-1842199200@lonestarcombatacademy.com
SUMMARY:Open Mat
DESCRIPTION:
URL:https://lonestarcombatacademy.com/schedule/open-mat-2/2028-05-17/
LOCATION:LSCA – Lyste\, 940 N. Belt Line RD\, Irving\, TX\, 75061\, United States
CATEGORIES:Open Mat Time
END:VEVENT
BEGIN:VEVENT
DTSTART;TZID=America/Chicago:20280517T173000
DTEND;TZID=America/Chicago:20280517T190000
DTSTAMP:20260419T182930
CREATED:20260108T034118Z
LAST-MODIFIED:20260108T034738Z
UID:10002235-1842197400-1842202800@lonestarcombatacademy.com
SUMMARY:Open Mat
DESCRIPTION:
URL:https://lonestarcombatacademy.com/schedule/open-mat/2028-05-17/
LOCATION:LSCA – Lyste\, 940 N. Belt Line RD\, Irving\, TX\, 75061\, United States
CATEGORIES:Open Mat Time
END:VEVENT
BEGIN:VEVENT
DTSTART;TZID=America/Chicago:20280518T160000
DTEND;TZID=America/Chicago:20280518T180000
DTSTAMP:20260419T182930
CREATED:20260108T034347Z
LAST-MODIFIED:20260108T034641Z
UID:10004835-1842278400-1842285600@lonestarcombatacademy.com
SUMMARY:Open Mat
DESCRIPTION:
URL:https://lonestarcombatacademy.com/schedule/open-mat-2/2028-05-18/
LOCATION:LSCA – Lyste\, 940 N. Belt Line RD\, Irving\, TX\, 75061\, United States
CATEGORIES:Open Mat Time
END:VEVENT
BEGIN:VEVENT
DTSTART;TZID=America/Chicago:20280518T173000
DTEND;TZID=America/Chicago:20280518T190000
DTSTAMP:20260419T182930
CREATED:20260108T034118Z
LAST-MODIFIED:20260108T034738Z
UID:10002236-1842283800-1842289200@lonestarcombatacademy.com
SUMMARY:Open Mat
DESCRIPTION:
URL:https://lonestarcombatacademy.com/schedule/open-mat/2028-05-18/
LOCATION:LSCA – Lyste\, 940 N. Belt Line RD\, Irving\, TX\, 75061\, United States
CATEGORIES:Open Mat Time
END:VEVENT
BEGIN:VEVENT
DTSTART;TZID=America/Chicago:20280519T160000
DTEND;TZID=America/Chicago:20280519T180000
DTSTAMP:20260419T182930
CREATED:20260108T034347Z
LAST-MODIFIED:20260108T034641Z
UID:10004836-1842364800-1842372000@lonestarcombatacademy.com
SUMMARY:Open Mat
DESCRIPTION:
URL:https://lonestarcombatacademy.com/schedule/open-mat-2/2028-05-19/
LOCATION:LSCA – Lyste\, 940 N. Belt Line RD\, Irving\, TX\, 75061\, United States
CATEGORIES:Open Mat Time
END:VEVENT
BEGIN:VEVENT
DTSTART;TZID=America/Chicago:20280519T173000
DTEND;TZID=America/Chicago:20280519T190000
DTSTAMP:20260419T182930
CREATED:20260108T034118Z
LAST-MODIFIED:20260108T034738Z
UID:10002237-1842370200-1842375600@lonestarcombatacademy.com
SUMMARY:Open Mat
DESCRIPTION:
URL:https://lonestarcombatacademy.com/schedule/open-mat/2028-05-19/
LOCATION:LSCA – Lyste\, 940 N. Belt Line RD\, Irving\, TX\, 75061\, United States
CATEGORIES:Open Mat Time
END:VEVENT
BEGIN:VEVENT
DTSTART;TZID=America/Chicago:20280521T160000
DTEND;TZID=America/Chicago:20280521T180000
DTSTAMP:20260419T182930
CREATED:20260108T034347Z
LAST-MODIFIED:20260108T034641Z
UID:10004837-1842537600-1842544800@lonestarcombatacademy.com
SUMMARY:Open Mat
DESCRIPTION:
URL:https://lonestarcombatacademy.com/schedule/open-mat-2/2028-05-21/
LOCATION:LSCA – Lyste\, 940 N. Belt Line RD\, Irving\, TX\, 75061\, United States
CATEGORIES:Open Mat Time
END:VEVENT
END:VCALENDAR