BEGIN:VCALENDAR
VERSION:2.0
PRODID:-//Lone Star Combat Academy - ECPv6.15.17.1//NONSGML v1.0//EN
CALSCALE:GREGORIAN
METHOD:PUBLISH
X-ORIGINAL-URL:https://lonestarcombatacademy.com
X-WR-CALDESC:Events for Lone Star Combat Academy
REFRESH-INTERVAL;VALUE=DURATION:PT1H
X-Robots-Tag:noindex
X-PUBLISHED-TTL:PT1H
BEGIN:VTIMEZONE
TZID:America/Chicago
BEGIN:DAYLIGHT
TZOFFSETFROM:-0600
TZOFFSETTO:-0500
TZNAME:CDT
DTSTART:20270314T080000
END:DAYLIGHT
BEGIN:STANDARD
TZOFFSETFROM:-0500
TZOFFSETTO:-0600
TZNAME:CST
DTSTART:20271107T070000
END:STANDARD
BEGIN:DAYLIGHT
TZOFFSETFROM:-0600
TZOFFSETTO:-0500
TZNAME:CDT
DTSTART:20280312T080000
END:DAYLIGHT
BEGIN:STANDARD
TZOFFSETFROM:-0500
TZOFFSETTO:-0600
TZNAME:CST
DTSTART:20281105T070000
END:STANDARD
BEGIN:DAYLIGHT
TZOFFSETFROM:-0600
TZOFFSETTO:-0500
TZNAME:CDT
DTSTART:20290311T080000
END:DAYLIGHT
BEGIN:STANDARD
TZOFFSETFROM:-0500
TZOFFSETTO:-0600
TZNAME:CST
DTSTART:20291104T070000
END:STANDARD
END:VTIMEZONE
BEGIN:VEVENT
DTSTART;TZID=America/Chicago:20280326T160000
DTEND;TZID=America/Chicago:20280326T180000
DTSTAMP:20260419T110931
CREATED:20260108T034347Z
LAST-MODIFIED:20260108T034641Z
UID:10004797-1837699200-1837706400@lonestarcombatacademy.com
SUMMARY:Open Mat
DESCRIPTION:
URL:https://lonestarcombatacademy.com/schedule/open-mat-2/2028-03-26/
LOCATION:LSCA – Lyste\, 940 N. Belt Line RD\, Irving\, TX\, 75061\, United States
CATEGORIES:Open Mat Time
END:VEVENT
BEGIN:VEVENT
DTSTART;TZID=America/Chicago:20280327T173000
DTEND;TZID=America/Chicago:20280327T190000
DTSTAMP:20260419T110931
CREATED:20260108T034118Z
LAST-MODIFIED:20260108T034738Z
UID:10002198-1837791000-1837796400@lonestarcombatacademy.com
SUMMARY:Open Mat
DESCRIPTION:
URL:https://lonestarcombatacademy.com/schedule/open-mat/2028-03-27/
LOCATION:LSCA – Lyste\, 940 N. Belt Line RD\, Irving\, TX\, 75061\, United States
CATEGORIES:Open Mat Time
END:VEVENT
BEGIN:VEVENT
DTSTART;TZID=America/Chicago:20280328T160000
DTEND;TZID=America/Chicago:20280328T180000
DTSTAMP:20260419T110931
CREATED:20260108T034347Z
LAST-MODIFIED:20260108T034641Z
UID:10004798-1837872000-1837879200@lonestarcombatacademy.com
SUMMARY:Open Mat
DESCRIPTION:
URL:https://lonestarcombatacademy.com/schedule/open-mat-2/2028-03-28/
LOCATION:LSCA – Lyste\, 940 N. Belt Line RD\, Irving\, TX\, 75061\, United States
CATEGORIES:Open Mat Time
END:VEVENT
BEGIN:VEVENT
DTSTART;TZID=America/Chicago:20280328T173000
DTEND;TZID=America/Chicago:20280328T190000
DTSTAMP:20260419T110931
CREATED:20260108T034118Z
LAST-MODIFIED:20260108T034738Z
UID:10002199-1837877400-1837882800@lonestarcombatacademy.com
SUMMARY:Open Mat
DESCRIPTION:
URL:https://lonestarcombatacademy.com/schedule/open-mat/2028-03-28/
LOCATION:LSCA – Lyste\, 940 N. Belt Line RD\, Irving\, TX\, 75061\, United States
CATEGORIES:Open Mat Time
END:VEVENT
BEGIN:VEVENT
DTSTART;TZID=America/Chicago:20280329T160000
DTEND;TZID=America/Chicago:20280329T180000
DTSTAMP:20260419T110931
CREATED:20260108T034347Z
LAST-MODIFIED:20260108T034641Z
UID:10004799-1837958400-1837965600@lonestarcombatacademy.com
SUMMARY:Open Mat
DESCRIPTION:
URL:https://lonestarcombatacademy.com/schedule/open-mat-2/2028-03-29/
LOCATION:LSCA – Lyste\, 940 N. Belt Line RD\, Irving\, TX\, 75061\, United States
CATEGORIES:Open Mat Time
END:VEVENT
BEGIN:VEVENT
DTSTART;TZID=America/Chicago:20280329T173000
DTEND;TZID=America/Chicago:20280329T190000
DTSTAMP:20260419T110931
CREATED:20260108T034118Z
LAST-MODIFIED:20260108T034738Z
UID:10002200-1837963800-1837969200@lonestarcombatacademy.com
SUMMARY:Open Mat
DESCRIPTION:
URL:https://lonestarcombatacademy.com/schedule/open-mat/2028-03-29/
LOCATION:LSCA – Lyste\, 940 N. Belt Line RD\, Irving\, TX\, 75061\, United States
CATEGORIES:Open Mat Time
END:VEVENT
BEGIN:VEVENT
DTSTART;TZID=America/Chicago:20280330T160000
DTEND;TZID=America/Chicago:20280330T180000
DTSTAMP:20260419T110931
CREATED:20260108T034347Z
LAST-MODIFIED:20260108T034641Z
UID:10004800-1838044800-1838052000@lonestarcombatacademy.com
SUMMARY:Open Mat
DESCRIPTION:
URL:https://lonestarcombatacademy.com/schedule/open-mat-2/2028-03-30/
LOCATION:LSCA – Lyste\, 940 N. Belt Line RD\, Irving\, TX\, 75061\, United States
CATEGORIES:Open Mat Time
END:VEVENT
BEGIN:VEVENT
DTSTART;TZID=America/Chicago:20280330T173000
DTEND;TZID=America/Chicago:20280330T190000
DTSTAMP:20260419T110931
CREATED:20260108T034118Z
LAST-MODIFIED:20260108T034738Z
UID:10002201-1838050200-1838055600@lonestarcombatacademy.com
SUMMARY:Open Mat
DESCRIPTION:
URL:https://lonestarcombatacademy.com/schedule/open-mat/2028-03-30/
LOCATION:LSCA – Lyste\, 940 N. Belt Line RD\, Irving\, TX\, 75061\, United States
CATEGORIES:Open Mat Time
END:VEVENT
BEGIN:VEVENT
DTSTART;TZID=America/Chicago:20280331T160000
DTEND;TZID=America/Chicago:20280331T180000
DTSTAMP:20260419T110931
CREATED:20260108T034347Z
LAST-MODIFIED:20260108T034641Z
UID:10004801-1838131200-1838138400@lonestarcombatacademy.com
SUMMARY:Open Mat
DESCRIPTION:
URL:https://lonestarcombatacademy.com/schedule/open-mat-2/2028-03-31/
LOCATION:LSCA – Lyste\, 940 N. Belt Line RD\, Irving\, TX\, 75061\, United States
CATEGORIES:Open Mat Time
END:VEVENT
BEGIN:VEVENT
DTSTART;TZID=America/Chicago:20280331T173000
DTEND;TZID=America/Chicago:20280331T190000
DTSTAMP:20260419T110931
CREATED:20260108T034118Z
LAST-MODIFIED:20260108T034738Z
UID:10002202-1838136600-1838142000@lonestarcombatacademy.com
SUMMARY:Open Mat
DESCRIPTION:
URL:https://lonestarcombatacademy.com/schedule/open-mat/2028-03-31/
LOCATION:LSCA – Lyste\, 940 N. Belt Line RD\, Irving\, TX\, 75061\, United States
CATEGORIES:Open Mat Time
END:VEVENT
BEGIN:VEVENT
DTSTART;TZID=America/Chicago:20280402T160000
DTEND;TZID=America/Chicago:20280402T180000
DTSTAMP:20260419T110931
CREATED:20260108T034347Z
LAST-MODIFIED:20260108T034641Z
UID:10004802-1838304000-1838311200@lonestarcombatacademy.com
SUMMARY:Open Mat
DESCRIPTION:
URL:https://lonestarcombatacademy.com/schedule/open-mat-2/2028-04-02/
LOCATION:LSCA – Lyste\, 940 N. Belt Line RD\, Irving\, TX\, 75061\, United States
CATEGORIES:Open Mat Time
END:VEVENT
BEGIN:VEVENT
DTSTART;TZID=America/Chicago:20280403T173000
DTEND;TZID=America/Chicago:20280403T190000
DTSTAMP:20260419T110931
CREATED:20260108T034118Z
LAST-MODIFIED:20260108T034738Z
UID:10002203-1838395800-1838401200@lonestarcombatacademy.com
SUMMARY:Open Mat
DESCRIPTION:
URL:https://lonestarcombatacademy.com/schedule/open-mat/2028-04-03/
LOCATION:LSCA – Lyste\, 940 N. Belt Line RD\, Irving\, TX\, 75061\, United States
CATEGORIES:Open Mat Time
END:VEVENT
BEGIN:VEVENT
DTSTART;TZID=America/Chicago:20280404T160000
DTEND;TZID=America/Chicago:20280404T180000
DTSTAMP:20260419T110931
CREATED:20260108T034347Z
LAST-MODIFIED:20260108T034641Z
UID:10004803-1838476800-1838484000@lonestarcombatacademy.com
SUMMARY:Open Mat
DESCRIPTION:
URL:https://lonestarcombatacademy.com/schedule/open-mat-2/2028-04-04/
LOCATION:LSCA – Lyste\, 940 N. Belt Line RD\, Irving\, TX\, 75061\, United States
CATEGORIES:Open Mat Time
END:VEVENT
BEGIN:VEVENT
DTSTART;TZID=America/Chicago:20280404T173000
DTEND;TZID=America/Chicago:20280404T190000
DTSTAMP:20260419T110931
CREATED:20260108T034118Z
LAST-MODIFIED:20260108T034738Z
UID:10002204-1838482200-1838487600@lonestarcombatacademy.com
SUMMARY:Open Mat
DESCRIPTION:
URL:https://lonestarcombatacademy.com/schedule/open-mat/2028-04-04/
LOCATION:LSCA – Lyste\, 940 N. Belt Line RD\, Irving\, TX\, 75061\, United States
CATEGORIES:Open Mat Time
END:VEVENT
BEGIN:VEVENT
DTSTART;TZID=America/Chicago:20280405T160000
DTEND;TZID=America/Chicago:20280405T180000
DTSTAMP:20260419T110931
CREATED:20260108T034347Z
LAST-MODIFIED:20260108T034641Z
UID:10004804-1838563200-1838570400@lonestarcombatacademy.com
SUMMARY:Open Mat
DESCRIPTION:
URL:https://lonestarcombatacademy.com/schedule/open-mat-2/2028-04-05/
LOCATION:LSCA – Lyste\, 940 N. Belt Line RD\, Irving\, TX\, 75061\, United States
CATEGORIES:Open Mat Time
END:VEVENT
BEGIN:VEVENT
DTSTART;TZID=America/Chicago:20280405T173000
DTEND;TZID=America/Chicago:20280405T190000
DTSTAMP:20260419T110931
CREATED:20260108T034118Z
LAST-MODIFIED:20260108T034738Z
UID:10002205-1838568600-1838574000@lonestarcombatacademy.com
SUMMARY:Open Mat
DESCRIPTION:
URL:https://lonestarcombatacademy.com/schedule/open-mat/2028-04-05/
LOCATION:LSCA – Lyste\, 940 N. Belt Line RD\, Irving\, TX\, 75061\, United States
CATEGORIES:Open Mat Time
END:VEVENT
BEGIN:VEVENT
DTSTART;TZID=America/Chicago:20280406T160000
DTEND;TZID=America/Chicago:20280406T180000
DTSTAMP:20260419T110931
CREATED:20260108T034347Z
LAST-MODIFIED:20260108T034641Z
UID:10004805-1838649600-1838656800@lonestarcombatacademy.com
SUMMARY:Open Mat
DESCRIPTION:
URL:https://lonestarcombatacademy.com/schedule/open-mat-2/2028-04-06/
LOCATION:LSCA – Lyste\, 940 N. Belt Line RD\, Irving\, TX\, 75061\, United States
CATEGORIES:Open Mat Time
END:VEVENT
BEGIN:VEVENT
DTSTART;TZID=America/Chicago:20280406T173000
DTEND;TZID=America/Chicago:20280406T190000
DTSTAMP:20260419T110931
CREATED:20260108T034118Z
LAST-MODIFIED:20260108T034738Z
UID:10002206-1838655000-1838660400@lonestarcombatacademy.com
SUMMARY:Open Mat
DESCRIPTION:
URL:https://lonestarcombatacademy.com/schedule/open-mat/2028-04-06/
LOCATION:LSCA – Lyste\, 940 N. Belt Line RD\, Irving\, TX\, 75061\, United States
CATEGORIES:Open Mat Time
END:VEVENT
BEGIN:VEVENT
DTSTART;TZID=America/Chicago:20280407T160000
DTEND;TZID=America/Chicago:20280407T180000
DTSTAMP:20260419T110931
CREATED:20260108T034347Z
LAST-MODIFIED:20260108T034641Z
UID:10004806-1838736000-1838743200@lonestarcombatacademy.com
SUMMARY:Open Mat
DESCRIPTION:
URL:https://lonestarcombatacademy.com/schedule/open-mat-2/2028-04-07/
LOCATION:LSCA – Lyste\, 940 N. Belt Line RD\, Irving\, TX\, 75061\, United States
CATEGORIES:Open Mat Time
END:VEVENT
BEGIN:VEVENT
DTSTART;TZID=America/Chicago:20280407T173000
DTEND;TZID=America/Chicago:20280407T190000
DTSTAMP:20260419T110931
CREATED:20260108T034118Z
LAST-MODIFIED:20260108T034738Z
UID:10002207-1838741400-1838746800@lonestarcombatacademy.com
SUMMARY:Open Mat
DESCRIPTION:
URL:https://lonestarcombatacademy.com/schedule/open-mat/2028-04-07/
LOCATION:LSCA – Lyste\, 940 N. Belt Line RD\, Irving\, TX\, 75061\, United States
CATEGORIES:Open Mat Time
END:VEVENT
BEGIN:VEVENT
DTSTART;TZID=America/Chicago:20280409T160000
DTEND;TZID=America/Chicago:20280409T180000
DTSTAMP:20260419T110931
CREATED:20260108T034347Z
LAST-MODIFIED:20260108T034641Z
UID:10004807-1838908800-1838916000@lonestarcombatacademy.com
SUMMARY:Open Mat
DESCRIPTION:
URL:https://lonestarcombatacademy.com/schedule/open-mat-2/2028-04-09/
LOCATION:LSCA – Lyste\, 940 N. Belt Line RD\, Irving\, TX\, 75061\, United States
CATEGORIES:Open Mat Time
END:VEVENT
BEGIN:VEVENT
DTSTART;TZID=America/Chicago:20280410T173000
DTEND;TZID=America/Chicago:20280410T190000
DTSTAMP:20260419T110931
CREATED:20260108T034118Z
LAST-MODIFIED:20260108T034738Z
UID:10002208-1839000600-1839006000@lonestarcombatacademy.com
SUMMARY:Open Mat
DESCRIPTION:
URL:https://lonestarcombatacademy.com/schedule/open-mat/2028-04-10/
LOCATION:LSCA – Lyste\, 940 N. Belt Line RD\, Irving\, TX\, 75061\, United States
CATEGORIES:Open Mat Time
END:VEVENT
BEGIN:VEVENT
DTSTART;TZID=America/Chicago:20280411T160000
DTEND;TZID=America/Chicago:20280411T180000
DTSTAMP:20260419T110931
CREATED:20260108T034347Z
LAST-MODIFIED:20260108T034641Z
UID:10004808-1839081600-1839088800@lonestarcombatacademy.com
SUMMARY:Open Mat
DESCRIPTION:
URL:https://lonestarcombatacademy.com/schedule/open-mat-2/2028-04-11/
LOCATION:LSCA – Lyste\, 940 N. Belt Line RD\, Irving\, TX\, 75061\, United States
CATEGORIES:Open Mat Time
END:VEVENT
BEGIN:VEVENT
DTSTART;TZID=America/Chicago:20280411T173000
DTEND;TZID=America/Chicago:20280411T190000
DTSTAMP:20260419T110931
CREATED:20260108T034118Z
LAST-MODIFIED:20260108T034738Z
UID:10002209-1839087000-1839092400@lonestarcombatacademy.com
SUMMARY:Open Mat
DESCRIPTION:
URL:https://lonestarcombatacademy.com/schedule/open-mat/2028-04-11/
LOCATION:LSCA – Lyste\, 940 N. Belt Line RD\, Irving\, TX\, 75061\, United States
CATEGORIES:Open Mat Time
END:VEVENT
BEGIN:VEVENT
DTSTART;TZID=America/Chicago:20280412T160000
DTEND;TZID=America/Chicago:20280412T180000
DTSTAMP:20260419T110931
CREATED:20260108T034347Z
LAST-MODIFIED:20260108T034641Z
UID:10004809-1839168000-1839175200@lonestarcombatacademy.com
SUMMARY:Open Mat
DESCRIPTION:
URL:https://lonestarcombatacademy.com/schedule/open-mat-2/2028-04-12/
LOCATION:LSCA – Lyste\, 940 N. Belt Line RD\, Irving\, TX\, 75061\, United States
CATEGORIES:Open Mat Time
END:VEVENT
BEGIN:VEVENT
DTSTART;TZID=America/Chicago:20280412T173000
DTEND;TZID=America/Chicago:20280412T190000
DTSTAMP:20260419T110931
CREATED:20260108T034118Z
LAST-MODIFIED:20260108T034738Z
UID:10002210-1839173400-1839178800@lonestarcombatacademy.com
SUMMARY:Open Mat
DESCRIPTION:
URL:https://lonestarcombatacademy.com/schedule/open-mat/2028-04-12/
LOCATION:LSCA – Lyste\, 940 N. Belt Line RD\, Irving\, TX\, 75061\, United States
CATEGORIES:Open Mat Time
END:VEVENT
BEGIN:VEVENT
DTSTART;TZID=America/Chicago:20280413T160000
DTEND;TZID=America/Chicago:20280413T180000
DTSTAMP:20260419T110931
CREATED:20260108T034347Z
LAST-MODIFIED:20260108T034641Z
UID:10004810-1839254400-1839261600@lonestarcombatacademy.com
SUMMARY:Open Mat
DESCRIPTION:
URL:https://lonestarcombatacademy.com/schedule/open-mat-2/2028-04-13/
LOCATION:LSCA – Lyste\, 940 N. Belt Line RD\, Irving\, TX\, 75061\, United States
CATEGORIES:Open Mat Time
END:VEVENT
BEGIN:VEVENT
DTSTART;TZID=America/Chicago:20280413T173000
DTEND;TZID=America/Chicago:20280413T190000
DTSTAMP:20260419T110931
CREATED:20260108T034118Z
LAST-MODIFIED:20260108T034738Z
UID:10002211-1839259800-1839265200@lonestarcombatacademy.com
SUMMARY:Open Mat
DESCRIPTION:
URL:https://lonestarcombatacademy.com/schedule/open-mat/2028-04-13/
LOCATION:LSCA – Lyste\, 940 N. Belt Line RD\, Irving\, TX\, 75061\, United States
CATEGORIES:Open Mat Time
END:VEVENT
BEGIN:VEVENT
DTSTART;TZID=America/Chicago:20280414T160000
DTEND;TZID=America/Chicago:20280414T180000
DTSTAMP:20260419T110931
CREATED:20260108T034347Z
LAST-MODIFIED:20260108T034641Z
UID:10004811-1839340800-1839348000@lonestarcombatacademy.com
SUMMARY:Open Mat
DESCRIPTION:
URL:https://lonestarcombatacademy.com/schedule/open-mat-2/2028-04-14/
LOCATION:LSCA – Lyste\, 940 N. Belt Line RD\, Irving\, TX\, 75061\, United States
CATEGORIES:Open Mat Time
END:VEVENT
BEGIN:VEVENT
DTSTART;TZID=America/Chicago:20280414T173000
DTEND;TZID=America/Chicago:20280414T190000
DTSTAMP:20260419T110931
CREATED:20260108T034118Z
LAST-MODIFIED:20260108T034738Z
UID:10002212-1839346200-1839351600@lonestarcombatacademy.com
SUMMARY:Open Mat
DESCRIPTION:
URL:https://lonestarcombatacademy.com/schedule/open-mat/2028-04-14/
LOCATION:LSCA – Lyste\, 940 N. Belt Line RD\, Irving\, TX\, 75061\, United States
CATEGORIES:Open Mat Time
END:VEVENT
END:VCALENDAR