BEGIN:VCALENDAR
VERSION:2.0
PRODID:-//Lone Star Combat Academy - ECPv6.15.17.1//NONSGML v1.0//EN
CALSCALE:GREGORIAN
METHOD:PUBLISH
X-WR-CALNAME:Lone Star Combat Academy
X-ORIGINAL-URL:http://lonestarcombatacademy.com
X-WR-CALDESC:Events for Lone Star Combat Academy
REFRESH-INTERVAL;VALUE=DURATION:PT1H
X-Robots-Tag:noindex
X-PUBLISHED-TTL:PT1H
BEGIN:VTIMEZONE
TZID:America/Chicago
BEGIN:DAYLIGHT
TZOFFSETFROM:-0600
TZOFFSETTO:-0500
TZNAME:CDT
DTSTART:20250309T080000
END:DAYLIGHT
BEGIN:STANDARD
TZOFFSETFROM:-0500
TZOFFSETTO:-0600
TZNAME:CST
DTSTART:20251102T070000
END:STANDARD
BEGIN:DAYLIGHT
TZOFFSETFROM:-0600
TZOFFSETTO:-0500
TZNAME:CDT
DTSTART:20260308T080000
END:DAYLIGHT
BEGIN:STANDARD
TZOFFSETFROM:-0500
TZOFFSETTO:-0600
TZNAME:CST
DTSTART:20261101T070000
END:STANDARD
BEGIN:DAYLIGHT
TZOFFSETFROM:-0600
TZOFFSETTO:-0500
TZNAME:CDT
DTSTART:20270314T080000
END:DAYLIGHT
BEGIN:STANDARD
TZOFFSETFROM:-0500
TZOFFSETTO:-0600
TZNAME:CST
DTSTART:20271107T070000
END:STANDARD
END:VTIMEZONE
BEGIN:VEVENT
DTSTART;TZID=America/Chicago:20260517T160000
DTEND;TZID=America/Chicago:20260517T180000
DTSTAMP:20260420T064115
CREATED:20260108T034347Z
LAST-MODIFIED:20260108T034641Z
UID:10004312-1779033600-1779040800@lonestarcombatacademy.com
SUMMARY:Open Mat
DESCRIPTION:
URL:http://lonestarcombatacademy.com/schedule/open-mat-2/2026-05-17/
LOCATION:LSCA – Lyste\, 940 N. Belt Line RD\, Irving\, TX\, 75061\, United States
CATEGORIES:Open Mat Time
END:VEVENT
BEGIN:VEVENT
DTSTART;TZID=America/Chicago:20260518T173000
DTEND;TZID=America/Chicago:20260518T190000
DTSTAMP:20260420T064115
CREATED:20260108T034118Z
LAST-MODIFIED:20260108T034738Z
UID:10001713-1779125400-1779130800@lonestarcombatacademy.com
SUMMARY:Open Mat
DESCRIPTION:
URL:http://lonestarcombatacademy.com/schedule/open-mat/2026-05-18/
LOCATION:LSCA – Lyste\, 940 N. Belt Line RD\, Irving\, TX\, 75061\, United States
CATEGORIES:Open Mat Time
END:VEVENT
BEGIN:VEVENT
DTSTART;TZID=America/Chicago:20260519T160000
DTEND;TZID=America/Chicago:20260519T180000
DTSTAMP:20260420T064115
CREATED:20260108T034347Z
LAST-MODIFIED:20260108T034641Z
UID:10004313-1779206400-1779213600@lonestarcombatacademy.com
SUMMARY:Open Mat
DESCRIPTION:
URL:http://lonestarcombatacademy.com/schedule/open-mat-2/2026-05-19/
LOCATION:LSCA – Lyste\, 940 N. Belt Line RD\, Irving\, TX\, 75061\, United States
CATEGORIES:Open Mat Time
END:VEVENT
BEGIN:VEVENT
DTSTART;TZID=America/Chicago:20260519T173000
DTEND;TZID=America/Chicago:20260519T190000
DTSTAMP:20260420T064115
CREATED:20260108T034118Z
LAST-MODIFIED:20260108T034738Z
UID:10001714-1779211800-1779217200@lonestarcombatacademy.com
SUMMARY:Open Mat
DESCRIPTION:
URL:http://lonestarcombatacademy.com/schedule/open-mat/2026-05-19/
LOCATION:LSCA – Lyste\, 940 N. Belt Line RD\, Irving\, TX\, 75061\, United States
CATEGORIES:Open Mat Time
END:VEVENT
BEGIN:VEVENT
DTSTART;TZID=America/Chicago:20260520T160000
DTEND;TZID=America/Chicago:20260520T180000
DTSTAMP:20260420T064115
CREATED:20260108T034347Z
LAST-MODIFIED:20260108T034641Z
UID:10004314-1779292800-1779300000@lonestarcombatacademy.com
SUMMARY:Open Mat
DESCRIPTION:
URL:http://lonestarcombatacademy.com/schedule/open-mat-2/2026-05-20/
LOCATION:LSCA – Lyste\, 940 N. Belt Line RD\, Irving\, TX\, 75061\, United States
CATEGORIES:Open Mat Time
END:VEVENT
BEGIN:VEVENT
DTSTART;TZID=America/Chicago:20260520T173000
DTEND;TZID=America/Chicago:20260520T190000
DTSTAMP:20260420T064115
CREATED:20260108T034118Z
LAST-MODIFIED:20260108T034738Z
UID:10001715-1779298200-1779303600@lonestarcombatacademy.com
SUMMARY:Open Mat
DESCRIPTION:
URL:http://lonestarcombatacademy.com/schedule/open-mat/2026-05-20/
LOCATION:LSCA – Lyste\, 940 N. Belt Line RD\, Irving\, TX\, 75061\, United States
CATEGORIES:Open Mat Time
END:VEVENT
BEGIN:VEVENT
DTSTART;TZID=America/Chicago:20260521T160000
DTEND;TZID=America/Chicago:20260521T180000
DTSTAMP:20260420T064115
CREATED:20260108T034347Z
LAST-MODIFIED:20260108T034641Z
UID:10004315-1779379200-1779386400@lonestarcombatacademy.com
SUMMARY:Open Mat
DESCRIPTION:
URL:http://lonestarcombatacademy.com/schedule/open-mat-2/2026-05-21/
LOCATION:LSCA – Lyste\, 940 N. Belt Line RD\, Irving\, TX\, 75061\, United States
CATEGORIES:Open Mat Time
END:VEVENT
BEGIN:VEVENT
DTSTART;TZID=America/Chicago:20260521T173000
DTEND;TZID=America/Chicago:20260521T190000
DTSTAMP:20260420T064115
CREATED:20260108T034118Z
LAST-MODIFIED:20260108T034738Z
UID:10001716-1779384600-1779390000@lonestarcombatacademy.com
SUMMARY:Open Mat
DESCRIPTION:
URL:http://lonestarcombatacademy.com/schedule/open-mat/2026-05-21/
LOCATION:LSCA – Lyste\, 940 N. Belt Line RD\, Irving\, TX\, 75061\, United States
CATEGORIES:Open Mat Time
END:VEVENT
BEGIN:VEVENT
DTSTART;TZID=America/Chicago:20260522T160000
DTEND;TZID=America/Chicago:20260522T180000
DTSTAMP:20260420T064115
CREATED:20260108T034347Z
LAST-MODIFIED:20260108T034641Z
UID:10004316-1779465600-1779472800@lonestarcombatacademy.com
SUMMARY:Open Mat
DESCRIPTION:
URL:http://lonestarcombatacademy.com/schedule/open-mat-2/2026-05-22/
LOCATION:LSCA – Lyste\, 940 N. Belt Line RD\, Irving\, TX\, 75061\, United States
CATEGORIES:Open Mat Time
END:VEVENT
BEGIN:VEVENT
DTSTART;TZID=America/Chicago:20260522T173000
DTEND;TZID=America/Chicago:20260522T190000
DTSTAMP:20260420T064115
CREATED:20260108T034118Z
LAST-MODIFIED:20260108T034738Z
UID:10001717-1779471000-1779476400@lonestarcombatacademy.com
SUMMARY:Open Mat
DESCRIPTION:
URL:http://lonestarcombatacademy.com/schedule/open-mat/2026-05-22/
LOCATION:LSCA – Lyste\, 940 N. Belt Line RD\, Irving\, TX\, 75061\, United States
CATEGORIES:Open Mat Time
END:VEVENT
BEGIN:VEVENT
DTSTART;TZID=America/Chicago:20260524T160000
DTEND;TZID=America/Chicago:20260524T180000
DTSTAMP:20260420T064115
CREATED:20260108T034347Z
LAST-MODIFIED:20260108T034641Z
UID:10004317-1779638400-1779645600@lonestarcombatacademy.com
SUMMARY:Open Mat
DESCRIPTION:
URL:http://lonestarcombatacademy.com/schedule/open-mat-2/2026-05-24/
LOCATION:LSCA – Lyste\, 940 N. Belt Line RD\, Irving\, TX\, 75061\, United States
CATEGORIES:Open Mat Time
END:VEVENT
BEGIN:VEVENT
DTSTART;TZID=America/Chicago:20260525T173000
DTEND;TZID=America/Chicago:20260525T190000
DTSTAMP:20260420T064115
CREATED:20260108T034118Z
LAST-MODIFIED:20260108T034738Z
UID:10001718-1779730200-1779735600@lonestarcombatacademy.com
SUMMARY:Open Mat
DESCRIPTION:
URL:http://lonestarcombatacademy.com/schedule/open-mat/2026-05-25/
LOCATION:LSCA – Lyste\, 940 N. Belt Line RD\, Irving\, TX\, 75061\, United States
CATEGORIES:Open Mat Time
END:VEVENT
BEGIN:VEVENT
DTSTART;TZID=America/Chicago:20260526T160000
DTEND;TZID=America/Chicago:20260526T180000
DTSTAMP:20260420T064115
CREATED:20260108T034347Z
LAST-MODIFIED:20260108T034641Z
UID:10004318-1779811200-1779818400@lonestarcombatacademy.com
SUMMARY:Open Mat
DESCRIPTION:
URL:http://lonestarcombatacademy.com/schedule/open-mat-2/2026-05-26/
LOCATION:LSCA – Lyste\, 940 N. Belt Line RD\, Irving\, TX\, 75061\, United States
CATEGORIES:Open Mat Time
END:VEVENT
BEGIN:VEVENT
DTSTART;TZID=America/Chicago:20260526T173000
DTEND;TZID=America/Chicago:20260526T190000
DTSTAMP:20260420T064115
CREATED:20260108T034118Z
LAST-MODIFIED:20260108T034738Z
UID:10001719-1779816600-1779822000@lonestarcombatacademy.com
SUMMARY:Open Mat
DESCRIPTION:
URL:http://lonestarcombatacademy.com/schedule/open-mat/2026-05-26/
LOCATION:LSCA – Lyste\, 940 N. Belt Line RD\, Irving\, TX\, 75061\, United States
CATEGORIES:Open Mat Time
END:VEVENT
BEGIN:VEVENT
DTSTART;TZID=America/Chicago:20260527T160000
DTEND;TZID=America/Chicago:20260527T180000
DTSTAMP:20260420T064115
CREATED:20260108T034347Z
LAST-MODIFIED:20260108T034641Z
UID:10004319-1779897600-1779904800@lonestarcombatacademy.com
SUMMARY:Open Mat
DESCRIPTION:
URL:http://lonestarcombatacademy.com/schedule/open-mat-2/2026-05-27/
LOCATION:LSCA – Lyste\, 940 N. Belt Line RD\, Irving\, TX\, 75061\, United States
CATEGORIES:Open Mat Time
END:VEVENT
BEGIN:VEVENT
DTSTART;TZID=America/Chicago:20260527T173000
DTEND;TZID=America/Chicago:20260527T190000
DTSTAMP:20260420T064115
CREATED:20260108T034118Z
LAST-MODIFIED:20260108T034738Z
UID:10001720-1779903000-1779908400@lonestarcombatacademy.com
SUMMARY:Open Mat
DESCRIPTION:
URL:http://lonestarcombatacademy.com/schedule/open-mat/2026-05-27/
LOCATION:LSCA – Lyste\, 940 N. Belt Line RD\, Irving\, TX\, 75061\, United States
CATEGORIES:Open Mat Time
END:VEVENT
BEGIN:VEVENT
DTSTART;TZID=America/Chicago:20260528T160000
DTEND;TZID=America/Chicago:20260528T180000
DTSTAMP:20260420T064115
CREATED:20260108T034347Z
LAST-MODIFIED:20260108T034641Z
UID:10004320-1779984000-1779991200@lonestarcombatacademy.com
SUMMARY:Open Mat
DESCRIPTION:
URL:http://lonestarcombatacademy.com/schedule/open-mat-2/2026-05-28/
LOCATION:LSCA – Lyste\, 940 N. Belt Line RD\, Irving\, TX\, 75061\, United States
CATEGORIES:Open Mat Time
END:VEVENT
BEGIN:VEVENT
DTSTART;TZID=America/Chicago:20260528T173000
DTEND;TZID=America/Chicago:20260528T190000
DTSTAMP:20260420T064115
CREATED:20260108T034118Z
LAST-MODIFIED:20260108T034738Z
UID:10001721-1779989400-1779994800@lonestarcombatacademy.com
SUMMARY:Open Mat
DESCRIPTION:
URL:http://lonestarcombatacademy.com/schedule/open-mat/2026-05-28/
LOCATION:LSCA – Lyste\, 940 N. Belt Line RD\, Irving\, TX\, 75061\, United States
CATEGORIES:Open Mat Time
END:VEVENT
BEGIN:VEVENT
DTSTART;TZID=America/Chicago:20260529T160000
DTEND;TZID=America/Chicago:20260529T180000
DTSTAMP:20260420T064115
CREATED:20260108T034347Z
LAST-MODIFIED:20260108T034641Z
UID:10004321-1780070400-1780077600@lonestarcombatacademy.com
SUMMARY:Open Mat
DESCRIPTION:
URL:http://lonestarcombatacademy.com/schedule/open-mat-2/2026-05-29/
LOCATION:LSCA – Lyste\, 940 N. Belt Line RD\, Irving\, TX\, 75061\, United States
CATEGORIES:Open Mat Time
END:VEVENT
BEGIN:VEVENT
DTSTART;TZID=America/Chicago:20260529T173000
DTEND;TZID=America/Chicago:20260529T190000
DTSTAMP:20260420T064115
CREATED:20260108T034118Z
LAST-MODIFIED:20260108T034738Z
UID:10001722-1780075800-1780081200@lonestarcombatacademy.com
SUMMARY:Open Mat
DESCRIPTION:
URL:http://lonestarcombatacademy.com/schedule/open-mat/2026-05-29/
LOCATION:LSCA – Lyste\, 940 N. Belt Line RD\, Irving\, TX\, 75061\, United States
CATEGORIES:Open Mat Time
END:VEVENT
BEGIN:VEVENT
DTSTART;TZID=America/Chicago:20260531T160000
DTEND;TZID=America/Chicago:20260531T180000
DTSTAMP:20260420T064115
CREATED:20260108T034347Z
LAST-MODIFIED:20260108T034641Z
UID:10004322-1780243200-1780250400@lonestarcombatacademy.com
SUMMARY:Open Mat
DESCRIPTION:
URL:http://lonestarcombatacademy.com/schedule/open-mat-2/2026-05-31/
LOCATION:LSCA – Lyste\, 940 N. Belt Line RD\, Irving\, TX\, 75061\, United States
CATEGORIES:Open Mat Time
END:VEVENT
BEGIN:VEVENT
DTSTART;TZID=America/Chicago:20260601T173000
DTEND;TZID=America/Chicago:20260601T190000
DTSTAMP:20260420T064115
CREATED:20260108T034118Z
LAST-MODIFIED:20260108T034738Z
UID:10001723-1780335000-1780340400@lonestarcombatacademy.com
SUMMARY:Open Mat
DESCRIPTION:
URL:http://lonestarcombatacademy.com/schedule/open-mat/2026-06-01/
LOCATION:LSCA – Lyste\, 940 N. Belt Line RD\, Irving\, TX\, 75061\, United States
CATEGORIES:Open Mat Time
END:VEVENT
BEGIN:VEVENT
DTSTART;TZID=America/Chicago:20260602T160000
DTEND;TZID=America/Chicago:20260602T180000
DTSTAMP:20260420T064115
CREATED:20260108T034347Z
LAST-MODIFIED:20260108T034641Z
UID:10004323-1780416000-1780423200@lonestarcombatacademy.com
SUMMARY:Open Mat
DESCRIPTION:
URL:http://lonestarcombatacademy.com/schedule/open-mat-2/2026-06-02/
LOCATION:LSCA – Lyste\, 940 N. Belt Line RD\, Irving\, TX\, 75061\, United States
CATEGORIES:Open Mat Time
END:VEVENT
BEGIN:VEVENT
DTSTART;TZID=America/Chicago:20260602T173000
DTEND;TZID=America/Chicago:20260602T190000
DTSTAMP:20260420T064115
CREATED:20260108T034118Z
LAST-MODIFIED:20260108T034738Z
UID:10001724-1780421400-1780426800@lonestarcombatacademy.com
SUMMARY:Open Mat
DESCRIPTION:
URL:http://lonestarcombatacademy.com/schedule/open-mat/2026-06-02/
LOCATION:LSCA – Lyste\, 940 N. Belt Line RD\, Irving\, TX\, 75061\, United States
CATEGORIES:Open Mat Time
END:VEVENT
BEGIN:VEVENT
DTSTART;TZID=America/Chicago:20260603T160000
DTEND;TZID=America/Chicago:20260603T180000
DTSTAMP:20260420T064115
CREATED:20260108T034347Z
LAST-MODIFIED:20260108T034641Z
UID:10004324-1780502400-1780509600@lonestarcombatacademy.com
SUMMARY:Open Mat
DESCRIPTION:
URL:http://lonestarcombatacademy.com/schedule/open-mat-2/2026-06-03/
LOCATION:LSCA – Lyste\, 940 N. Belt Line RD\, Irving\, TX\, 75061\, United States
CATEGORIES:Open Mat Time
END:VEVENT
BEGIN:VEVENT
DTSTART;TZID=America/Chicago:20260603T173000
DTEND;TZID=America/Chicago:20260603T190000
DTSTAMP:20260420T064115
CREATED:20260108T034118Z
LAST-MODIFIED:20260108T034738Z
UID:10001725-1780507800-1780513200@lonestarcombatacademy.com
SUMMARY:Open Mat
DESCRIPTION:
URL:http://lonestarcombatacademy.com/schedule/open-mat/2026-06-03/
LOCATION:LSCA – Lyste\, 940 N. Belt Line RD\, Irving\, TX\, 75061\, United States
CATEGORIES:Open Mat Time
END:VEVENT
BEGIN:VEVENT
DTSTART;TZID=America/Chicago:20260604T160000
DTEND;TZID=America/Chicago:20260604T180000
DTSTAMP:20260420T064115
CREATED:20260108T034347Z
LAST-MODIFIED:20260108T034641Z
UID:10004325-1780588800-1780596000@lonestarcombatacademy.com
SUMMARY:Open Mat
DESCRIPTION:
URL:http://lonestarcombatacademy.com/schedule/open-mat-2/2026-06-04/
LOCATION:LSCA – Lyste\, 940 N. Belt Line RD\, Irving\, TX\, 75061\, United States
CATEGORIES:Open Mat Time
END:VEVENT
BEGIN:VEVENT
DTSTART;TZID=America/Chicago:20260604T173000
DTEND;TZID=America/Chicago:20260604T190000
DTSTAMP:20260420T064115
CREATED:20260108T034118Z
LAST-MODIFIED:20260108T034738Z
UID:10001726-1780594200-1780599600@lonestarcombatacademy.com
SUMMARY:Open Mat
DESCRIPTION:
URL:http://lonestarcombatacademy.com/schedule/open-mat/2026-06-04/
LOCATION:LSCA – Lyste\, 940 N. Belt Line RD\, Irving\, TX\, 75061\, United States
CATEGORIES:Open Mat Time
END:VEVENT
BEGIN:VEVENT
DTSTART;TZID=America/Chicago:20260605T160000
DTEND;TZID=America/Chicago:20260605T180000
DTSTAMP:20260420T064115
CREATED:20260108T034347Z
LAST-MODIFIED:20260108T034641Z
UID:10004326-1780675200-1780682400@lonestarcombatacademy.com
SUMMARY:Open Mat
DESCRIPTION:
URL:http://lonestarcombatacademy.com/schedule/open-mat-2/2026-06-05/
LOCATION:LSCA – Lyste\, 940 N. Belt Line RD\, Irving\, TX\, 75061\, United States
CATEGORIES:Open Mat Time
END:VEVENT
BEGIN:VEVENT
DTSTART;TZID=America/Chicago:20260605T173000
DTEND;TZID=America/Chicago:20260605T190000
DTSTAMP:20260420T064115
CREATED:20260108T034118Z
LAST-MODIFIED:20260108T034738Z
UID:10001727-1780680600-1780686000@lonestarcombatacademy.com
SUMMARY:Open Mat
DESCRIPTION:
URL:http://lonestarcombatacademy.com/schedule/open-mat/2026-06-05/
LOCATION:LSCA – Lyste\, 940 N. Belt Line RD\, Irving\, TX\, 75061\, United States
CATEGORIES:Open Mat Time
END:VEVENT
END:VCALENDAR