BEGIN:VCALENDAR
VERSION:2.0
PRODID:-//Lone Star Combat Academy - ECPv6.15.17.1//NONSGML v1.0//EN
CALSCALE:GREGORIAN
METHOD:PUBLISH
X-ORIGINAL-URL:http://lonestarcombatacademy.com
X-WR-CALDESC:Events for Lone Star Combat Academy
REFRESH-INTERVAL;VALUE=DURATION:PT1H
X-Robots-Tag:noindex
X-PUBLISHED-TTL:PT1H
BEGIN:VTIMEZONE
TZID:America/Chicago
BEGIN:DAYLIGHT
TZOFFSETFROM:-0600
TZOFFSETTO:-0500
TZNAME:CDT
DTSTART:20250309T080000
END:DAYLIGHT
BEGIN:STANDARD
TZOFFSETFROM:-0500
TZOFFSETTO:-0600
TZNAME:CST
DTSTART:20251102T070000
END:STANDARD
BEGIN:DAYLIGHT
TZOFFSETFROM:-0600
TZOFFSETTO:-0500
TZNAME:CDT
DTSTART:20260308T080000
END:DAYLIGHT
BEGIN:STANDARD
TZOFFSETFROM:-0500
TZOFFSETTO:-0600
TZNAME:CST
DTSTART:20261101T070000
END:STANDARD
BEGIN:DAYLIGHT
TZOFFSETFROM:-0600
TZOFFSETTO:-0500
TZNAME:CDT
DTSTART:20270314T080000
END:DAYLIGHT
BEGIN:STANDARD
TZOFFSETFROM:-0500
TZOFFSETTO:-0600
TZNAME:CST
DTSTART:20271107T070000
END:STANDARD
END:VTIMEZONE
BEGIN:VEVENT
DTSTART;TZID=America/Chicago:20260420T173000
DTEND;TZID=America/Chicago:20260420T190000
DTSTAMP:20260420T032705
CREATED:20260108T034118Z
LAST-MODIFIED:20260108T034738Z
UID:10001693-1776706200-1776711600@lonestarcombatacademy.com
SUMMARY:Open Mat
DESCRIPTION:
URL:http://lonestarcombatacademy.com/schedule/open-mat/2026-04-20/
LOCATION:LSCA – Lyste\, 940 N. Belt Line RD\, Irving\, TX\, 75061\, United States
CATEGORIES:Open Mat Time
END:VEVENT
BEGIN:VEVENT
DTSTART;TZID=America/Chicago:20260421T160000
DTEND;TZID=America/Chicago:20260421T180000
DTSTAMP:20260420T032705
CREATED:20260108T034347Z
LAST-MODIFIED:20260108T034641Z
UID:10004293-1776787200-1776794400@lonestarcombatacademy.com
SUMMARY:Open Mat
DESCRIPTION:
URL:http://lonestarcombatacademy.com/schedule/open-mat-2/2026-04-21/
LOCATION:LSCA – Lyste\, 940 N. Belt Line RD\, Irving\, TX\, 75061\, United States
CATEGORIES:Open Mat Time
END:VEVENT
BEGIN:VEVENT
DTSTART;TZID=America/Chicago:20260421T173000
DTEND;TZID=America/Chicago:20260421T190000
DTSTAMP:20260420T032705
CREATED:20260108T034118Z
LAST-MODIFIED:20260108T034738Z
UID:10001694-1776792600-1776798000@lonestarcombatacademy.com
SUMMARY:Open Mat
DESCRIPTION:
URL:http://lonestarcombatacademy.com/schedule/open-mat/2026-04-21/
LOCATION:LSCA – Lyste\, 940 N. Belt Line RD\, Irving\, TX\, 75061\, United States
CATEGORIES:Open Mat Time
END:VEVENT
BEGIN:VEVENT
DTSTART;TZID=America/Chicago:20260422T160000
DTEND;TZID=America/Chicago:20260422T180000
DTSTAMP:20260420T032705
CREATED:20260108T034347Z
LAST-MODIFIED:20260108T034641Z
UID:10004294-1776873600-1776880800@lonestarcombatacademy.com
SUMMARY:Open Mat
DESCRIPTION:
URL:http://lonestarcombatacademy.com/schedule/open-mat-2/2026-04-22/
LOCATION:LSCA – Lyste\, 940 N. Belt Line RD\, Irving\, TX\, 75061\, United States
CATEGORIES:Open Mat Time
END:VEVENT
BEGIN:VEVENT
DTSTART;TZID=America/Chicago:20260422T173000
DTEND;TZID=America/Chicago:20260422T190000
DTSTAMP:20260420T032705
CREATED:20260108T034118Z
LAST-MODIFIED:20260108T034738Z
UID:10001695-1776879000-1776884400@lonestarcombatacademy.com
SUMMARY:Open Mat
DESCRIPTION:
URL:http://lonestarcombatacademy.com/schedule/open-mat/2026-04-22/
LOCATION:LSCA – Lyste\, 940 N. Belt Line RD\, Irving\, TX\, 75061\, United States
CATEGORIES:Open Mat Time
END:VEVENT
BEGIN:VEVENT
DTSTART;TZID=America/Chicago:20260423T160000
DTEND;TZID=America/Chicago:20260423T180000
DTSTAMP:20260420T032705
CREATED:20260108T034347Z
LAST-MODIFIED:20260108T034641Z
UID:10004295-1776960000-1776967200@lonestarcombatacademy.com
SUMMARY:Open Mat
DESCRIPTION:
URL:http://lonestarcombatacademy.com/schedule/open-mat-2/2026-04-23/
LOCATION:LSCA – Lyste\, 940 N. Belt Line RD\, Irving\, TX\, 75061\, United States
CATEGORIES:Open Mat Time
END:VEVENT
BEGIN:VEVENT
DTSTART;TZID=America/Chicago:20260423T173000
DTEND;TZID=America/Chicago:20260423T190000
DTSTAMP:20260420T032705
CREATED:20260108T034118Z
LAST-MODIFIED:20260108T034738Z
UID:10001696-1776965400-1776970800@lonestarcombatacademy.com
SUMMARY:Open Mat
DESCRIPTION:
URL:http://lonestarcombatacademy.com/schedule/open-mat/2026-04-23/
LOCATION:LSCA – Lyste\, 940 N. Belt Line RD\, Irving\, TX\, 75061\, United States
CATEGORIES:Open Mat Time
END:VEVENT
BEGIN:VEVENT
DTSTART;TZID=America/Chicago:20260424T160000
DTEND;TZID=America/Chicago:20260424T180000
DTSTAMP:20260420T032705
CREATED:20260108T034347Z
LAST-MODIFIED:20260108T034641Z
UID:10004296-1777046400-1777053600@lonestarcombatacademy.com
SUMMARY:Open Mat
DESCRIPTION:
URL:http://lonestarcombatacademy.com/schedule/open-mat-2/2026-04-24/
LOCATION:LSCA – Lyste\, 940 N. Belt Line RD\, Irving\, TX\, 75061\, United States
CATEGORIES:Open Mat Time
END:VEVENT
BEGIN:VEVENT
DTSTART;TZID=America/Chicago:20260424T173000
DTEND;TZID=America/Chicago:20260424T190000
DTSTAMP:20260420T032705
CREATED:20260108T034118Z
LAST-MODIFIED:20260108T034738Z
UID:10001697-1777051800-1777057200@lonestarcombatacademy.com
SUMMARY:Open Mat
DESCRIPTION:
URL:http://lonestarcombatacademy.com/schedule/open-mat/2026-04-24/
LOCATION:LSCA – Lyste\, 940 N. Belt Line RD\, Irving\, TX\, 75061\, United States
CATEGORIES:Open Mat Time
END:VEVENT
BEGIN:VEVENT
DTSTART;TZID=America/Chicago:20260426T160000
DTEND;TZID=America/Chicago:20260426T180000
DTSTAMP:20260420T032705
CREATED:20260108T034347Z
LAST-MODIFIED:20260108T034641Z
UID:10004297-1777219200-1777226400@lonestarcombatacademy.com
SUMMARY:Open Mat
DESCRIPTION:
URL:http://lonestarcombatacademy.com/schedule/open-mat-2/2026-04-26/
LOCATION:LSCA – Lyste\, 940 N. Belt Line RD\, Irving\, TX\, 75061\, United States
CATEGORIES:Open Mat Time
END:VEVENT
BEGIN:VEVENT
DTSTART;TZID=America/Chicago:20260427T173000
DTEND;TZID=America/Chicago:20260427T190000
DTSTAMP:20260420T032705
CREATED:20260108T034118Z
LAST-MODIFIED:20260108T034738Z
UID:10001698-1777311000-1777316400@lonestarcombatacademy.com
SUMMARY:Open Mat
DESCRIPTION:
URL:http://lonestarcombatacademy.com/schedule/open-mat/2026-04-27/
LOCATION:LSCA – Lyste\, 940 N. Belt Line RD\, Irving\, TX\, 75061\, United States
CATEGORIES:Open Mat Time
END:VEVENT
BEGIN:VEVENT
DTSTART;TZID=America/Chicago:20260428T160000
DTEND;TZID=America/Chicago:20260428T180000
DTSTAMP:20260420T032705
CREATED:20260108T034347Z
LAST-MODIFIED:20260108T034641Z
UID:10004298-1777392000-1777399200@lonestarcombatacademy.com
SUMMARY:Open Mat
DESCRIPTION:
URL:http://lonestarcombatacademy.com/schedule/open-mat-2/2026-04-28/
LOCATION:LSCA – Lyste\, 940 N. Belt Line RD\, Irving\, TX\, 75061\, United States
CATEGORIES:Open Mat Time
END:VEVENT
BEGIN:VEVENT
DTSTART;TZID=America/Chicago:20260428T173000
DTEND;TZID=America/Chicago:20260428T190000
DTSTAMP:20260420T032705
CREATED:20260108T034118Z
LAST-MODIFIED:20260108T034738Z
UID:10001699-1777397400-1777402800@lonestarcombatacademy.com
SUMMARY:Open Mat
DESCRIPTION:
URL:http://lonestarcombatacademy.com/schedule/open-mat/2026-04-28/
LOCATION:LSCA – Lyste\, 940 N. Belt Line RD\, Irving\, TX\, 75061\, United States
CATEGORIES:Open Mat Time
END:VEVENT
BEGIN:VEVENT
DTSTART;TZID=America/Chicago:20260429T160000
DTEND;TZID=America/Chicago:20260429T180000
DTSTAMP:20260420T032705
CREATED:20260108T034347Z
LAST-MODIFIED:20260108T034641Z
UID:10004299-1777478400-1777485600@lonestarcombatacademy.com
SUMMARY:Open Mat
DESCRIPTION:
URL:http://lonestarcombatacademy.com/schedule/open-mat-2/2026-04-29/
LOCATION:LSCA – Lyste\, 940 N. Belt Line RD\, Irving\, TX\, 75061\, United States
CATEGORIES:Open Mat Time
END:VEVENT
BEGIN:VEVENT
DTSTART;TZID=America/Chicago:20260429T173000
DTEND;TZID=America/Chicago:20260429T190000
DTSTAMP:20260420T032705
CREATED:20260108T034118Z
LAST-MODIFIED:20260108T034738Z
UID:10001700-1777483800-1777489200@lonestarcombatacademy.com
SUMMARY:Open Mat
DESCRIPTION:
URL:http://lonestarcombatacademy.com/schedule/open-mat/2026-04-29/
LOCATION:LSCA – Lyste\, 940 N. Belt Line RD\, Irving\, TX\, 75061\, United States
CATEGORIES:Open Mat Time
END:VEVENT
BEGIN:VEVENT
DTSTART;TZID=America/Chicago:20260430T160000
DTEND;TZID=America/Chicago:20260430T180000
DTSTAMP:20260420T032705
CREATED:20260108T034347Z
LAST-MODIFIED:20260108T034641Z
UID:10004300-1777564800-1777572000@lonestarcombatacademy.com
SUMMARY:Open Mat
DESCRIPTION:
URL:http://lonestarcombatacademy.com/schedule/open-mat-2/2026-04-30/
LOCATION:LSCA – Lyste\, 940 N. Belt Line RD\, Irving\, TX\, 75061\, United States
CATEGORIES:Open Mat Time
END:VEVENT
BEGIN:VEVENT
DTSTART;TZID=America/Chicago:20260430T173000
DTEND;TZID=America/Chicago:20260430T190000
DTSTAMP:20260420T032705
CREATED:20260108T034118Z
LAST-MODIFIED:20260108T034738Z
UID:10001701-1777570200-1777575600@lonestarcombatacademy.com
SUMMARY:Open Mat
DESCRIPTION:
URL:http://lonestarcombatacademy.com/schedule/open-mat/2026-04-30/
LOCATION:LSCA – Lyste\, 940 N. Belt Line RD\, Irving\, TX\, 75061\, United States
CATEGORIES:Open Mat Time
END:VEVENT
END:VCALENDAR